BEGIN:VCALENDAR
VERSION:2.0
PRODID:-//CERN//INDICO//EN
BEGIN:VEVENT
SUMMARY:第1回会合
DTSTART;VALUE=DATE-TIME:20200324T043000Z
DTEND;VALUE=DATE-TIME:20200324T063000Z
DTSTAMP;VALUE=DATE-TIME:20260419T134336Z
UID:indico-event-1380@cern.ch
DESCRIPTION:接続情報　(ご質問は石川・中浜までお知らせ
 ださい) Default接続手段：KEK Vidyo\n       [Meeting 
 information]\n\n         Room Title: CFP2020\n\n       Room EXTENSION:
  1538\n\n      Room PIN(access code):\n\n  1)Vidyo\n\n     
     [Windows\, macOS\, iOS\, Android]\n\n         1. Sign in to 
 VidyoPortal from Vidyo client (input "kekvp.kek.jp" if asked for the 
 "Portal")\n\n          2. Search: 1538 or CFP2020\n\n      
       3. JOIN + PIN()\n\n     [Linux]\n\n           1. 
 https://kekwrtc1.kek.jp/web\n\n        2. Sign in to VidyoPortal 
 from WebRTC (input "kekvp.kek.jp" if asked for the "Portal")\n\n  
       3. Search: 1538 or CFP2020\n\n            4. JOIN + 
 PIN()\n\n     [VidyoRoom]\n\n       1. Search: 1538\n\n 
       2. JOIN + PIN()\n\n 2)H.323\n\n           1. Call to 
 130.87.60.41 (VidyoGateway)\n\n        2. When you receive a call\, 
 you hear audio guidance from VidyoGateway\n\n        3. Room 
 EXTENSION: 1538#\n\n              4. Room PIN: #\n\n  3)eZuce 
 Vibe\n\n              1. eZuce meeting booking and join\n\n       
       2. menu select (Call H.323/SIP client)\n\n        3. 
 130.87.60.41##1538*\n\n  4)Phone\n\n          1. Call to 
 +81-298-77-1213\n\n             2. When you receive a call\, you hear
  audio guidance from VidyoGateway\n\n         3. Room EXTENSION: 
 1538#\n\n       4. Room PIN: #\n\n      Documentation\n\n   
   https://kekvcs2.kek.jp/wiki\n\n     
  \nバックアップ接続手段：speakapp (参加のためには、事
 前設定の必要なし)\n1. https://speakapp.link/to/KDl1Bg　をクリ
 ック\n2. guest で入室. Nicknameを適宜入力\n3. 
 Password　 benkyo　を入力Name:   Meeting of Committee for Future 
 Planning     From:   Tue\, Mar 24th 13:15 +0900 (JST)     Until: 
  Tue\, Mar 24th 18:45 +0900 (JST)     Password:       benkyo    
 Link: https://speakapp.link/to/KDl1Bgスライドアップロードの
 法 1. ページ上側の鉛筆マークをクリック “Switch to 
 management area for this event”\n  2. Modification 
 keyを入力 　Mo_CFP24Mar2020  -> goをクリック\n\n     3. 
 Timetableの“Add material“ -> Choose file -> Open -> Create Resource\n
 (ご不明な場合は中浜・石川までスライドリンクを送っ
 いただければ、代りにアップロードしておきます)\n\nh
 ttps://agenda.hepl.phys.nagoya-u.ac.jp/indico/conferenceDisplay.py?confId=
 1380
LOCATION:Vidyo only
URL:https://agenda.hepl.phys.nagoya-u.ac.jp/indico/conferenceDisplay.py?con
 fId=1380
END:VEVENT
BEGIN:VEVENT
SUMMARY:第1回勉強会：エネルギーフロンティア
DTSTART;VALUE=DATE-TIME:20200430T013000Z
DTEND;VALUE=DATE-TIME:20200430T033000Z
DTSTAMP;VALUE=DATE-TIME:20260419T134336Z
UID:indico-event-1400@cern.ch
DESCRIPTION:将来計画委員会：第1回 勉強会 (hecforumにオー
 ン)\n"エネルギーフロンティア"Default 接続手段：Zoom (
 加のためには、事前設定の必要なし)\nこちらのリンク
 をクリック：https://kyoto-u-edu.zoom.us/j/96344264936?pwd=WWdLem96RV
 pEV08rcVdSNURnL1hUdz09ミーティングID: 963 4426 4936パスワード: 
 cfp2020\n・会議中は、原則ミュート機能をご使用いただ
 、発言をする際にミュートを解除してください。\n・
 声が聞こえない場合は、パソコンのZoomの画面の一番下
 に「オーディオに参加」と出ているか確認し、「オー
 ィオに参加」をクリックしてください。\nバックアッ
 接続：kek vidyo (https://kekvcs2.kek.jp/wiki/doku.php)\nRoom Title: 
 CFP2020　\nRoom EXTENSION: 1538\nRoom PIN(access code): (設定なし)\n
   Slack ワークスペース：CFP  #勉強会 チャンネルチャッ
 ツールで、勉強会の発表に対する質疑やコメントを受
 け付けます。\n  登録リンクは、こちら：https://join.slack.
 com/t/cfphep/signup?x=x-p1045853009543-1045853009639-1047939514803メー
 アドレスが @cern.ch\, @kek.jp\, 
 @post.kek.jp の方は申請すれば、すぐに登録できます。\n
    それ以外の方は少々お時間いただくかもしれません
 お近くの将来委員 (e.g. 石川・中浜) 
 に頼んでください。\n   \n\nhttps://agenda.hepl.phys.nagoya-u.ac.
 jp/indico/conferenceDisplay.py?confId=1400
LOCATION:テレビ会議のみ
URL:https://agenda.hepl.phys.nagoya-u.ac.jp/indico/conferenceDisplay.py?con
 fId=1400
END:VEVENT
BEGIN:VEVENT
SUMMARY:第2回勉強会：Intensity フロンティア
DTSTART;VALUE=DATE-TIME:20200604T013000Z
DTEND;VALUE=DATE-TIME:20200604T033000Z
DTSTAMP;VALUE=DATE-TIME:20260419T134336Z
UID:indico-event-1441@cern.ch
DESCRIPTION:高エネルギー将来計画委員会：第2回 勉強会 (
 hecforumにオープン)"Intensity フロンティア"\nJ-PARC加速器、
 加速器長基線ニュートリノ振動、K稀崩壊の現状、展望
 ビヨンドDefault 接続手段：Zoom (参加のためには、事前
 設定の必要なし)\nこちらのリンクをクリック：https://kyo
 to-u-edu.zoom.us/j/98297307524?pwd=TUxNaU5XZ0prZ2QyOUdyZVZiall3dz09ミー
 ィングID: 982 9730 7524パスワード: 
 cfp2020SIPで参加98297307524@zoomcrc.comH.323で参加162.255.37.11 (US 
 West)162.255.36.11 (US East)115.114.131.7 (India Mumbai)115.114.115.7 
 (India Hyderabad)213.19.144.110 (EMEA)103.122.166.55 
 (Australia)64.211.144.160 (Brazil)69.174.57.160 (Canada)207.226.132.110 
 (Japan)パスワード: 386911ミーティングID: 982 9730 7524\n・会
 中は、原則ミュート機能をご使用いただき、発言をす
 る際にミュートを解除してください。\n・音声が聞こえ
 ない場合は、パソコンのZoomの画面の一番下に「オーデ
 オに参加」と出ているか確認し、「オーディオに参加
 」をクリックしてください。\nバックアップ接続：kek 
 vidyo (https://kekvcs2.kek.jp/wiki/doku.php)\nRoom Title: CFP2020　\nRoom
  EXTENSION: 1538\nRoom PIN(access code): (設定なし)\n    Slack 
 ワークスペース：CFP  #勉強会 チャンネル今回も、チャ
 ットツールで、勉強会の発表に対する質疑やコメント
 受け付けます。\n      登録リンクは、こちら：https://joi
 n.slack.com/t/cfphep/signup?x=x-p1045853009543-1045853009639-1047939514803
 メールアドレスが @cern.ch\, @kek.jp\, 
 @post.kek.jp の方は申請すれば、すぐに登録できます。\n
    それ以外の方は少々お時間いただくかもしれません
 お近くの将来委員 (e.g. 石川・中浜) or 
 すでにメンバーの方に頼んでください。\n     \n\nhttps://
 agenda.hepl.phys.nagoya-u.ac.jp/indico/conferenceDisplay.py?confId=1441
LOCATION:テレビ会議のみ
URL:https://agenda.hepl.phys.nagoya-u.ac.jp/indico/conferenceDisplay.py?con
 fId=1441
END:VEVENT
BEGIN:VEVENT
SUMMARY:第3回勉強会：Bファクトリーおよび物理とミュー
 ンコライダー
DTSTART;VALUE=DATE-TIME:20200716T013000Z
DTEND;VALUE=DATE-TIME:20200716T033000Z
DTSTAMP;VALUE=DATE-TIME:20260419T134336Z
UID:indico-event-1463@cern.ch
DESCRIPTION:高エネルギー将来計画委員会：第3回 勉強会 (
 hecforumにオープン)『BファクトリーとBの物理の現状、展
 望、ビヨンド。ぷらすミューオンコライダー』Default 接
 続手段：Zoom (参加のためには、事前設定の必要なし)htt
 ps://kyoto-u-edu.zoom.us/j/96508382027?pwd=VnlEUmIxSXFqRFBaQjRabU5SSmlGdz0
 9ミーティングID: 965 0838 2027パスワード: 
 cfp2020SIPで参加96508382027@zoomcrc.comH.323で参加162.255.37.11 
 (米国西部)162.255.36.11 (米国東部)115.114.131.7 (インド 
 ムンバイ)115.114.115.7 (インド ハイデラバード)213.19.144.110
  (ヨーロッパ/中東/アフリカ)103.122.166.55 
 (オーストラリア)64.211.144.160 (ブラジル)69.174.57.160 
 (カナダ)207.226.132.110 (日本)パスワード: 
 5988138ミーティングID: 965 0838 2027\n・会議中は、原則ミュ
 ート機能をご使用いただき、発言をする際にミュート
 解除してください。\n・音声が聞こえない場合は、パ
 コンのZoomの画面の一番下に「オーディオに参加」と出
 ているか確認し、「オーディオに参加」をクリックし
 ください。\nバックアップ接続：kek vidyo 
 (https://kekvcs2.kek.jp/wiki/doku.php)\nRoom Title: CFP2020　\nRoom 
 EXTENSION: 1538\nRoom PIN(access code): (設定なし)\n    Slack 
 ワークスペース：CFP  #勉強会 チャンネル今回も、チャ
 ットツールで、勉強会の発表に対する質疑やコメント
 受け付けます。\n      登録リンクは、こちら：https://joi
 n.slack.com/t/cfphep/signup?x=x-p1045853009543-1045853009639-1047939514803
 メールアドレスが @cern.ch\, @kek.jp\, 
 @post.kek.jp の方は申請すれば、すぐに登録できます。\n
    それ以外の方は少々お時間いただくかもしれません
 お近くの将来委員 (e.g. 石川・中浜) or 
 すでにメンバーの方に頼んでください。\n     \n\nhttps://
 agenda.hepl.phys.nagoya-u.ac.jp/indico/conferenceDisplay.py?confId=1463
LOCATION:テレビ会議
URL:https://agenda.hepl.phys.nagoya-u.ac.jp/indico/conferenceDisplay.py?con
 fId=1463
END:VEVENT
BEGIN:VEVENT
SUMMARY:第4回勉強会：宇宙観測
DTSTART;VALUE=DATE-TIME:20200930T040000Z
DTEND;VALUE=DATE-TIME:20200930T060000Z
DTSTAMP;VALUE=DATE-TIME:20260419T134336Z
UID:indico-event-1492@cern.ch
DESCRIPTION:高エネルギー将来計画委員会：第4回 勉強会 (
 hecforumにオープン)『素粒⼦屋でも(物理屋なら)知ってお
 くべき「宇宙観測の現状と展望」』Default 接続手段：Zoo
 m https://kyoto-u-edu.zoom.us/j/86420907168?pwd=cDUwbzIwcndsS3hCRXJKUjBpb
 VV0dz09\n・会議中は、原則ミュート機能をご使用いただ
 、発言をする際にミュートを解除してください。\nバ
 クアップ接続：kek vidyo 
 (https://kekvcs2.kek.jp/wiki/doku.php)\nRoom Title: CFP2020　\nRoom 
 EXTENSION: 1538\nRoom PIN(access code): (設定なし)\n      Slack 
 ワークスペース：CFP  #勉強会 チャンネル今回も、チャ
 ットツールで、勉強会の発表に対する質疑やコメント
 受け付けます。\n      登録リンクは、こちら：https://joi
 n.slack.com/t/cfphep/signup?x=x-p1045853009543-1045853009639-1047939514803
 メールアドレスが @cern.ch\, @kek.jp\, 
 @post.kek.jp の方は申請すれば、すぐに登録できます。\n
    それ以外の方は少々お時間いただくかもしれません
 お近くの将来委員 (e.g. 石川・中浜) or 
 すでにメンバーの方に頼んでください。\n     \n\nhttps://
 agenda.hepl.phys.nagoya-u.ac.jp/indico/conferenceDisplay.py?confId=1492
LOCATION:テレビ会議
URL:https://agenda.hepl.phys.nagoya-u.ac.jp/indico/conferenceDisplay.py?con
 fId=1492
END:VEVENT
BEGIN:VEVENT
SUMMARY:第5回勉強会：理論その１
DTSTART;VALUE=DATE-TIME:20201109T053000Z
DTEND;VALUE=DATE-TIME:20201109T073000Z
DTSTAMP;VALUE=DATE-TIME:20260419T134336Z
UID:indico-event-1603@cern.ch
DESCRIPTION:高エネルギー将来計画委員会：第5回 勉強会 (
 hecforumにオープン)『理論屋さん、正直なところどうな
 ですか？ その１』Default 接続手段：Zoom https://kyoto-u-edu
 .zoom.us/j/82782656752?pwd=bUxYUmpwRENkN2tFSG41YUZZRStHZz09\n・会議中
 、原則ミュート機能をご使用いただき、発言をする際
 にミュートを解除してください。\nバックアップ接続：
 kek vidyo (https://kekvcs2.kek.jp/wiki/doku.php)\nRoom Title: 
 CFP2020　\nRoom EXTENSION: 1538\nRoom PIN(access code): (設定なし)\n
     Slack ワークスペース：CFP  #勉強会 チャンネル今回
 、チャットツールで、勉強会の発表に対する質疑やコ
 ントを受け付けます。回ごとに分けて整理する目的で
 、今回は #勉強会第05回理論　を使ってみます。登録リ
 ンクは、こちら：https://join.slack.com/t/cfphep/signup?x=x-p104585
 3009543-1045853009639-1047939514803メールアドレスが @cern.ch\, 
 @kek.jp\, 
 @post.kek.jp の方は申請すれば、すぐに登録できます。\n
         それ以外の方は少々お時間いただくかもしれませ
 ん。お近くの将来委員 (e.g. 石川・中浜) or 
 すでにメンバーの方に頼んでください。\n     \n\nhttps://
 agenda.hepl.phys.nagoya-u.ac.jp/indico/conferenceDisplay.py?confId=1603
LOCATION:テレビ会議
URL:https://agenda.hepl.phys.nagoya-u.ac.jp/indico/conferenceDisplay.py?con
 fId=1603
END:VEVENT
BEGIN:VEVENT
SUMMARY:第6回勉強会：EDMと中性子
DTSTART;VALUE=DATE-TIME:20201207T010000Z
DTEND;VALUE=DATE-TIME:20201207T030000Z
DTSTAMP;VALUE=DATE-TIME:20260419T134336Z
UID:indico-event-1620@cern.ch
DESCRIPTION:高エネルギー将来計画委員会：第6回 勉強会 (
 hecforumにオープン)『EDMと中性子』Default 接続手段：Zoom 
 \nhttps://kyoto-u-edu.zoom.us/j/84184708440?pwd=RS9ycGNkSmZ2SnZ6aGFZWk04N3
 ArUT09\n・会議中は、原則ミュート機能をご使用いただき
 、発言をする際にミュートを解除してください。\nバッ
 クアップ接続：kek vidyo 
 (https://kekvcs2.kek.jp/wiki/doku.php)\nRoom Title: CFP2020　\nRoom 
 EXTENSION: 1538\nRoom PIN(access code): (設定なし)\n Slack 
 ワークスペース：CFP  #勉強会 チャンネル今回も、チャ
 ットツールで、勉強会の発表に対する質疑やコメント
 受け付けます。\n      登録リンクは、こちら：https://joi
 n.slack.com/t/cfphep/signup?x=x-p1045853009543-1045853009639-1047939514803
 メールアドレスが @cern.ch\, @kek.jp\, 
 @post.kek.jp の方は申請すれば、すぐに登録できます。\n
    それ以外の方は少々お時間いただくかもしれません
 お近くの将来委員 (e.g. 石川・中浜) or 
 すでにメンバーの方に頼んでください。\n     \n\nhttps://
 agenda.hepl.phys.nagoya-u.ac.jp/indico/conferenceDisplay.py?confId=1620
LOCATION:テレビ会議
URL:https://agenda.hepl.phys.nagoya-u.ac.jp/indico/conferenceDisplay.py?con
 fId=1620
END:VEVENT
BEGIN:VEVENT
SUMMARY:第7回勉強会：加速器その１
DTSTART;VALUE=DATE-TIME:20210127T010000Z
DTEND;VALUE=DATE-TIME:20210127T030000Z
DTSTAMP;VALUE=DATE-TIME:20260419T134336Z
UID:indico-event-1639@cern.ch
DESCRIPTION:高エネルギー将来計画委員会：第7回 勉強会 (
 hecforumにオープン)『次世代加速器その１』接続手段：Zo
 om https://kyoto-u-edu.zoom.us/j/84184708440?pwd=RS9ycGNkSmZ2SnZ6aGFZWk04
 N3ArUT09\n・会議中は、原則ミュート機能をご使用いただ
 、発言をする際にミュートを解除してください。\n 
 Slack ワークスペース：CFP  #勉強会 チャンネル今回も、
 チャットツールで、勉強会の発表に対する質疑やコメ
 トを受け付けます。\n      登録リンクは、こちら：https
 ://join.slack.com/t/cfphep/signup?x=x-p1045853009543-1045853009639-1047939
 514803メールアドレスが @cern.ch\, @kek.jp\, 
 @post.kek.jp の方は申請すれば、すぐに登録できます。\n
    それ以外の方は少々お時間いただくかもしれません
 お近くの将来委員 (e.g. 石川・中浜) or 
 すでにメンバーの方に頼んでください。\n     \n\nhttps://
 agenda.hepl.phys.nagoya-u.ac.jp/indico/conferenceDisplay.py?confId=1639
LOCATION:Zoom
URL:https://agenda.hepl.phys.nagoya-u.ac.jp/indico/conferenceDisplay.py?con
 fId=1639
END:VEVENT
BEGIN:VEVENT
SUMMARY:第8回勉強会：加速器その２
DTSTART;VALUE=DATE-TIME:20210309T050000Z
DTEND;VALUE=DATE-TIME:20210309T070000Z
DTSTAMP;VALUE=DATE-TIME:20260419T134336Z
UID:indico-event-1661@cern.ch
DESCRIPTION:高エネルギー将来計画委員会：第8回 勉強会 (
 hecforumにオープン)『次世代加速器その２』接続手段：Zo
 om https://kyoto-u-edu.zoom.us/j/84184708440?pwd=RS9ycGNkSmZ2SnZ6aGFZWk04
 N3ArUT09 \n・会議中は、原則ミュート機能をご使用いた
 き、発言をする際にミュートを解除してください。\n
        Slack ワークスペース：CFP  #勉強会 チャンネル今
 も、チャットツールで、勉強会の発表に対する質疑や
 メントを受け付けます。\n      登録リンクは、こちら
 https://join.slack.com/t/cfphep/signup?x=x-p1045853009543-1045853009639-
 1047939514803メールアドレスが @cern.ch\, @kek.jp\, 
 @post.kek.jp の方は申請すれば、すぐに登録できます。\n
    それ以外の方は少々お時間いただくかもしれません
 お近くの将来委員 (e.g. 石川・中浜) or 
 すでにメンバーの方に頼んでください。\n     \n\nhttps://
 agenda.hepl.phys.nagoya-u.ac.jp/indico/conferenceDisplay.py?confId=1661
LOCATION:Zoom
URL:https://agenda.hepl.phys.nagoya-u.ac.jp/indico/conferenceDisplay.py?con
 fId=1661
END:VEVENT
BEGIN:VEVENT
SUMMARY:2019-2021 
 高エネルギー将来計画検討委員会　活動記録
DTSTART;VALUE=DATE-TIME:20210331T150000Z
DTEND;VALUE=DATE-TIME:20210331T160000Z
DTSTAMP;VALUE=DATE-TIME:20260419T134336Z
UID:indico-event-1689@cern.ch
DESCRIPTION:\n          勉強会 計13回：各回のindico 
 agendaへのリンク (講演者)　\n             \n
                               第1回 
 (2020Apr30)：エネルギーフロンティア (中浜、末原)\n
                     \n                              第2回 
 (2020Jun04)：Intensity フロンティア (栗本、坂下、南條)\n
                         \n                              第3回 (2020Jul16
 )：Bファクトリーおよび物理とミューオンコライダー (
 大西、石川、大谷)\n                 \n
                               第4回 
 (2020Sep30)：宇宙観測 (日下、大栗)\n                 \n
                               第5回 
 (2020Nov09)：理論その１ (伊部、永島)\n                      \n
                               第6回 
 (2020Dec07)：EDMと中性子 (山中、川崎、北口)\n
                      \n                              第7回 
 (2021Jan27)：加速器その１ (中本、細貝、吉田)\n
                   \n                              第8回 
 (2021Mar09)：加速器その２ (道園、梅森)\n                   \n
                               第9回 
 (2021Apr22)：理論その２ (北原)\n                       \n
                               第10回 
 (2021May31)：ミューオンとタウ (三部、早坂)\n
                     \n                              第11回 
 (2021Jun10)：陽子崩壊、０νββ、暗黒物質 
 (石塚、市川、身内)\n                     \n
                               第12回 (2021Jul8)：理論その３ 
 (小林、野海)\n                       \n                              
 第13回 (2021Aug27)：測定器開発フロンティア勉強会 
 (花垣、横山、外川、坂下、岸下、寺師)\n               \n
       \n              アンケート 計2回：\n            \n
                               2020年4-5月 KEKロードマップへの
 ンプット：アンケート結果　パスワード付きKEK素核研
 画委員会へのアンケート結果報告　パスワード付き\n
                  \n                              2021年6月 (1) 
 キャリアパス - 任期付ポスト 
 (参考資料)： アンケート結果　パスワード付き。(2) 
 加速器\n                              ******　アンケート結果の
 サイトへのアクセスには、　　　H〇〇〇〇NoSpinHa0　を
 さらにファイルを開くには　　　MassHa〇〇〇GeV　を入
 力ください。　〇の中には、アルファベット小文字、
 たは数字をいれてください。******\n         \n      \n
               タウンホールミーティング (2021Oct16)：indico 
 agenda\n              \n                              1. 
 高エネルギー物理学の将来\n                       \n
                               2. 
 先端加速器開発と大学研究室との共同研究\n
                   \n                              3. 
 キャリアパス、特に任期付きポストの増加\n          \n
       \n              報告書：link  (2022Mar 
 高エネルギー委員会およびhecforumへ報告)\n           \n\n\nh
 ttps://agenda.hepl.phys.nagoya-u.ac.jp/indico/conferenceDisplay.py?confId=
 1689
LOCATION:
URL:https://agenda.hepl.phys.nagoya-u.ac.jp/indico/conferenceDisplay.py?con
 fId=1689
END:VEVENT
BEGIN:VEVENT
SUMMARY:第9回勉強会：理論その２
DTSTART;VALUE=DATE-TIME:20210422T013000Z
DTEND;VALUE=DATE-TIME:20210422T030000Z
DTSTAMP;VALUE=DATE-TIME:20260419T134336Z
UID:indico-event-1690@cern.ch
DESCRIPTION:高エネルギー将来計画委員会：第9回 勉強会 (
 hecforumにオープン)『理論屋さん、正直なところどうな
 ですか？ その２』接続手段：Zoom https://zoom.us/j/989648265
 71?pwd=V2lqaVBPdXNFV21qc29OT1NJbU91UT09 Meeting ID: 989 6482 
 6571Passcode: 284691\n・会議中は、原則ミュート機能をご使
 いただき、発言をする際にミュートを解除してくださ
 い。Slack ワークスペース：CFP  #勉強会 チャンネル今回
 も、チャットツールで、勉強会の発表に対する質疑や
 メントを受け付けます。回ごとに分けて整理する目的
 、#勉強会第09回理論　を使います。登録リンクは、こ
 ちら：https://join.slack.com/t/cfphep/signup?x=x-p1045853009543-1045853
 009639-1047939514803\n\n     メールアドレスが @cern.ch\, @kek.jp\,
  @post.kek.jp の方は申請すれば、すぐに登録できます。\n
  それ以外の方は少々お時間いただくかもしれません。
 近くの将来委員 (e.g. 石川・中浜) or 
 すでにメンバーの方に頼んでください。\n     \n\nhttps://
 agenda.hepl.phys.nagoya-u.ac.jp/indico/conferenceDisplay.py?confId=1690
LOCATION:テレビ会議
URL:https://agenda.hepl.phys.nagoya-u.ac.jp/indico/conferenceDisplay.py?con
 fId=1690
END:VEVENT
BEGIN:VEVENT
SUMMARY:第10回勉強会：ミューオン・タウ
DTSTART;VALUE=DATE-TIME:20210531T070000Z
DTEND;VALUE=DATE-TIME:20210531T083000Z
DTSTAMP;VALUE=DATE-TIME:20260419T134336Z
UID:indico-event-1723@cern.ch
DESCRIPTION:高エネルギー将来計画委員会：第10回 勉強会 
 (hecforumにオープン)『ミューオンとタウレプトンで超え
 標準模型の壁』接続手段：Zoom https://us06web.zoom.us/j/8367
 9250055?pwd=Q0ZGU2F5aVFqM2ErR3ZnSFg0cUVlUT09\nMeeting ID: 836 7925 
 0055\nPasscode: 134440\n・会議中は、原則ミュート機能をご
 用いただき、発言をする際にミュートを解除してくだ
 い。Slack ワークスペース：CFP  #勉強会 チャンネル今
 も、チャットツールで、勉強会の発表に対する質疑や
 コメントを受け付けます。回ごとに分けて整理する目
 で、#勉強会第10回ミュータウ　を使います。登録リン
 は、こちら：https://join.slack.com/t/cfphep/signup?x=x-p1045853009
 543-1045853009639-1047939514803\n\n     メールアドレスが 
 @cern.ch\, @kek.jp\, 
 @post.kek.jp の方は申請すれば、すぐに登録できます。\n 
 それ以外の方は少々お時間いただくかもしれません。
 近くの将来委員 (e.g. 石川・中浜) or 
 すでにメンバーの方に頼んでください。\n     \n\nhttps://
 agenda.hepl.phys.nagoya-u.ac.jp/indico/conferenceDisplay.py?confId=1723
LOCATION:テレビ会議
URL:https://agenda.hepl.phys.nagoya-u.ac.jp/indico/conferenceDisplay.py?con
 fId=1723
END:VEVENT
BEGIN:VEVENT
SUMMARY:第11回勉強会：陽子崩壊、０νββ、暗黒物質
DTSTART;VALUE=DATE-TIME:20210610T003000Z
DTEND;VALUE=DATE-TIME:20210610T023000Z
DTSTAMP;VALUE=DATE-TIME:20260419T134336Z
UID:indico-event-1731@cern.ch
DESCRIPTION:高エネルギー将来計画委員会：第11回 勉強会 
 (hecforumにオープン)『どこまで探すのか、どこまで探せ
 いいのか、陽子崩壊、０νββ、暗黒物質』接続手段：
 Zoom https://us06web.zoom.us/j/98964826571?pwd=V2lqaVBPdXNFV21qc29OT1NJbU
 91UT09\nミーティングID: 989 6482 6571\nパスコード: 284691\n・
 議中は、原則ミュート機能をご使用いただき、発言を
 する際にミュートを解除してください。Slack 
 ワークスペース：CFP  #勉強会 チャンネル今回も、チャ
 ットツールで、勉強会の発表に対する質疑やコメント
 受け付けます。回ごとに分けて整理する目的で、#勉強
 会第11回　を使います。登録リンクは、こちら：https://j
 oin.slack.com/t/cfphep/signup?x=x-p1045853009543-1045853009639-10479395148
 03\n\n       メールアドレスが @cern.ch\, @kek.jp\, 
 @post.kek.jp の方は申請すれば、すぐに登録できます。\n 
 それ以外の方は少々お時間いただくかもしれません。
 近くの将来委員 (e.g. 石川・中浜) or 
 すでにメンバーの方に頼んでください。\n     \n\nhttps://
 agenda.hepl.phys.nagoya-u.ac.jp/indico/conferenceDisplay.py?confId=1731
LOCATION:テレビ会議
URL:https://agenda.hepl.phys.nagoya-u.ac.jp/indico/conferenceDisplay.py?con
 fId=1731
END:VEVENT
BEGIN:VEVENT
SUMMARY:第12回勉強会：理論その３「超弦理論と低エネル
 ー」
DTSTART;VALUE=DATE-TIME:20210708T010000Z
DTEND;VALUE=DATE-TIME:20210708T030000Z
DTSTAMP;VALUE=DATE-TIME:20260419T134336Z
UID:indico-event-1760@cern.ch
DESCRIPTION:高エネルギー将来計画委員会：第12回 勉強会 
 (hecforumにオープン)『理論その３「超弦理論と低エネル
 ー」』接続手段：Zoom https://us06web.zoom.us/j/98964826571?pwd=
 V2lqaVBPdXNFV21qc29OT1NJbU91UT09\nミーティングID: 989 6482 
 6571\nパスコード: 284691\n・会議中は、原則ミュート機能
 ご使用いただき、発言をする際にミュートを解除して
 ください。Slack ワークスペース：CFP  #勉強会 チャンネ
 ル今回も、チャットツールで、勉強会の発表に対する
 疑やコメントを受け付けます。回ごとに分けて整理す
 目的で、#勉強会第12回　を使います。登録リンクは、
 こちら：https://join.slack.com/t/cfphep/signup?x=x-p1045853009543-1045
 853009639-1047939514803\n\n       メールアドレスが @cern.ch\, 
 @kek.jp\, 
 @post.kek.jp の方は申請すれば、すぐに登録できます。\n 
 それ以外の方は少々お時間いただくかもしれません。
 近くの将来委員 (e.g. 石川・中浜) or 
 すでにメンバーの方に頼んでください。\n     \n\nhttps://
 agenda.hepl.phys.nagoya-u.ac.jp/indico/conferenceDisplay.py?confId=1760
LOCATION:テレビ会議
URL:https://agenda.hepl.phys.nagoya-u.ac.jp/indico/conferenceDisplay.py?con
 fId=1760
END:VEVENT
BEGIN:VEVENT
SUMMARY:第13回勉強会：測定器開発フロンティア勉強会
DTSTART;VALUE=DATE-TIME:20210827T040000Z
DTEND;VALUE=DATE-TIME:20210827T063000Z
DTSTAMP;VALUE=DATE-TIME:20260419T134336Z
UID:indico-event-1779@cern.ch
DESCRIPTION:高エネルギー将来計画委員会：第13回 勉強会 
 (hecforumにオープン)『測定器開発フロンティア勉強会』
 続手段：Zoom https://us06web.zoom.us/j/98964826571?pwd=V2lqaVBPdXNF
 V21qc29OT1NJbU91UT09\nミーティングID: 989 6482 
 6571\nパスコード: 284691\n・会議中は、原則ミュート機能
 ご使用いただき、発言をする際にミュートを解除して
 ください。Slack ワークスペース：CFP  #勉強会 チャンネ
 ル今回も、チャットツールで、勉強会の発表に対する
 疑やコメントを受け付けます。回ごとに分けて整理す
 目的で、#勉強会第13回測定器　を使います。登録リン
 クは、こちら：https://join.slack.com/t/cfphep/signup?x=x-p104585300
 9543-1045853009639-1047939514803\n\n  メールアドレスが @cern.ch\, 
 @kek.jp\, 
 @post.kek.jp の方は申請すれば、すぐに登録できます。\n 
 それ以外の方は少々お時間いただくかもしれません。
 近くの将来委員 (e.g. 石川・中浜) or 
 すでにメンバーの方に頼んでください。\n     \n\nhttps://
 agenda.hepl.phys.nagoya-u.ac.jp/indico/conferenceDisplay.py?confId=1779
LOCATION:テレビ会議
URL:https://agenda.hepl.phys.nagoya-u.ac.jp/indico/conferenceDisplay.py?con
 fId=1779
END:VEVENT
BEGIN:VEVENT
SUMMARY:タウンホールミーティング
DTSTART;VALUE=DATE-TIME:20211016T040000Z
DTEND;VALUE=DATE-TIME:20211016T090100Z
DTSTAMP;VALUE=DATE-TIME:20260419T134336Z
UID:indico-event-1813@cern.ch
DESCRIPTION:高エネルギー将来計画委員会： (hecforumにオー
 ン)『タウンホールミーティング』接続手段：Zoom https
 ://us06web.zoom.us/j/87881093817?pwd=UHRnVE5kbkxadnVqdTF5NGlaOU15QT09 (
 大300名)\n・会議中は、原則ミュート機能をご使用いた
 き、発言をする際にミュートを解除してください。Sla
 ck ワークスペース：CFP チャットツールで質疑やコメン
 トを受け付けます。回ごとに分けて整理する目的で、#
 ウンミーティング　を使います。登録リンクは、こち
 ら：https://join.slack.com/t/cfphep/signup?x=x-p1045853009543-1045853009
 639-1047939514803\n\n        メールアドレスが @cern.ch\, @kek.jp\,
  @post.kek.jp の方は申請すれば、すぐに登録できます。\n
  それ以外の方は少々お時間いただくかもしれません。
 近くの将来委員 (e.g. 石川・中浜) or 
 すでにメンバーの方に頼んでください。\n     \n\nhttps://
 agenda.hepl.phys.nagoya-u.ac.jp/indico/conferenceDisplay.py?confId=1813
LOCATION:テレビ会議
URL:https://agenda.hepl.phys.nagoya-u.ac.jp/indico/conferenceDisplay.py?con
 fId=1813
END:VEVENT
END:VCALENDAR
