BEGIN:VCALENDAR
VERSION:2.0
PRODID:-//CERN//INDICO//EN
BEGIN:VEVENT
SUMMARY:Baryogenesis
DTSTART;VALUE=DATE-TIME:20201109T063000Z
DTEND;VALUE=DATE-TIME:20201109T071500Z
DTSTAMP;VALUE=DATE-TIME:20260425T132336Z
UID:indico-contribution-1603-1@cern.ch
DESCRIPTION:Speakers: EIJIMA\, Shintaro (ICRR)\nhttps://agenda.hepl.phys.na
 goya-u.ac.jp/indico/contributionDisplay.py?contribId=1&confId=1603
LOCATION:テレビ会議
URL:https://agenda.hepl.phys.nagoya-u.ac.jp/indico/contributionDisplay.py?c
 ontribId=1&confId=1603
END:VEVENT
BEGIN:VEVENT
SUMMARY:暗黒物質模型
DTSTART;VALUE=DATE-TIME:20201109T053500Z
DTEND;VALUE=DATE-TIME:20201109T062000Z
DTSTAMP;VALUE=DATE-TIME:20260425T132336Z
UID:indico-contribution-1603-0@cern.ch
DESCRIPTION:Speakers: IBE\, Masahiro (ICRR)\nhttps://agenda.hepl.phys.nagoy
 a-u.ac.jp/indico/contributionDisplay.py?contribId=0&confId=1603
LOCATION:テレビ会議
URL:https://agenda.hepl.phys.nagoya-u.ac.jp/indico/contributionDisplay.py?c
 ontribId=0&confId=1603
END:VEVENT
BEGIN:VEVENT
SUMMARY:はじめに
DTSTART;VALUE=DATE-TIME:20201109T053000Z
DTEND;VALUE=DATE-TIME:20201109T053500Z
DTSTAMP;VALUE=DATE-TIME:20260425T132336Z
UID:indico-contribution-1603-2@cern.ch
DESCRIPTION:Speakers: ICHIKAWA\, Atsuko (Kyoto University)\nhttps://agenda.
 hepl.phys.nagoya-u.ac.jp/indico/contributionDisplay.py?contribId=2&confId=
 1603
LOCATION:テレビ会議
URL:https://agenda.hepl.phys.nagoya-u.ac.jp/indico/contributionDisplay.py?c
 ontribId=2&confId=1603
END:VEVENT
END:VCALENDAR
