BEGIN:VCALENDAR
VERSION:2.0
PRODID:-//CERN//INDICO//EN
BEGIN:VEVENT
SUMMARY:レーザープラズマ加速
DTSTART;VALUE=DATE-TIME:20210127T014500Z
DTEND;VALUE=DATE-TIME:20210127T021500Z
DTSTAMP;VALUE=DATE-TIME:20260425T132414Z
UID:indico-contribution-1639-1@cern.ch
DESCRIPTION:Speakers: HOSOKAI\, Tomonao (Osaka University)\nhttps://agenda.
 hepl.phys.nagoya-u.ac.jp/indico/contributionDisplay.py?contribId=1&confId=
 1639
LOCATION:Zoom
URL:https://agenda.hepl.phys.nagoya-u.ac.jp/indico/contributionDisplay.py?c
 ontribId=1&confId=1639
END:VEVENT
BEGIN:VEVENT
SUMMARY:FCChhなど次世代ハドロンコライダー
DTSTART;VALUE=DATE-TIME:20210127T010500Z
DTEND;VALUE=DATE-TIME:20210127T013500Z
DTSTAMP;VALUE=DATE-TIME:20260425T132414Z
UID:indico-contribution-1639-0@cern.ch
DESCRIPTION:Speakers: NAKAMOTO\, Tatsushi (KEK)\nhttps://agenda.hepl.phys.n
 agoya-u.ac.jp/indico/contributionDisplay.py?contribId=0&confId=1639
LOCATION:Zoom
URL:https://agenda.hepl.phys.nagoya-u.ac.jp/indico/contributionDisplay.py?c
 ontribId=0&confId=1639
END:VEVENT
BEGIN:VEVENT
SUMMARY:はじめに
DTSTART;VALUE=DATE-TIME:20210127T010000Z
DTEND;VALUE=DATE-TIME:20210127T010500Z
DTSTAMP;VALUE=DATE-TIME:20260425T132414Z
UID:indico-contribution-1639-3@cern.ch
DESCRIPTION:Speakers: ICHIKAWA\, Atsuko (Kyoto University)\nhttps://agenda.
 hepl.phys.nagoya-u.ac.jp/indico/contributionDisplay.py?contribId=3&confId=
 1639
LOCATION:Zoom
URL:https://agenda.hepl.phys.nagoya-u.ac.jp/indico/contributionDisplay.py?c
 ontribId=3&confId=1639
END:VEVENT
BEGIN:VEVENT
SUMMARY:THz加速、誘電体加速
DTSTART;VALUE=DATE-TIME:20210127T022500Z
DTEND;VALUE=DATE-TIME:20210127T025500Z
DTSTAMP;VALUE=DATE-TIME:20260425T132414Z
UID:indico-contribution-1639-2@cern.ch
DESCRIPTION:Speakers: YOSHIDA\, Mitsuhiro (KEK)\nhttps://agenda.hepl.phys.n
 agoya-u.ac.jp/indico/contributionDisplay.py?contribId=2&confId=1639
LOCATION:Zoom
URL:https://agenda.hepl.phys.nagoya-u.ac.jp/indico/contributionDisplay.py?c
 ontribId=2&confId=1639
END:VEVENT
END:VCALENDAR
