BEGIN:VCALENDAR
VERSION:2.0
PRODID:-//CERN//INDICO//EN
BEGIN:VEVENT
SUMMARY:ILCなどの次世代電子コライダー
DTSTART;VALUE=DATE-TIME:20210309T050500Z
DTEND;VALUE=DATE-TIME:20210309T052500Z
DTSTAMP;VALUE=DATE-TIME:20260425T132335Z
UID:indico-contribution-1661-1@cern.ch
DESCRIPTION:Speakers: MICHIZONO\, Shinichiro (KEK)\nhttps://agenda.hepl.phy
 s.nagoya-u.ac.jp/indico/contributionDisplay.py?contribId=1&confId=1661
LOCATION:Zoom
URL:https://agenda.hepl.phys.nagoya-u.ac.jp/indico/contributionDisplay.py?c
 ontribId=1&confId=1661
END:VEVENT
BEGIN:VEVENT
SUMMARY:超伝導加速空洞の開発 ~高性能化への挑戦~
DTSTART;VALUE=DATE-TIME:20210309T054500Z
DTEND;VALUE=DATE-TIME:20210309T061500Z
DTSTAMP;VALUE=DATE-TIME:20260425T132335Z
UID:indico-contribution-1661-0@cern.ch
DESCRIPTION:Speakers: UMEMORI\, Kensei (KEK)\nhttps://agenda.hepl.phys.nago
 ya-u.ac.jp/indico/contributionDisplay.py?contribId=0&confId=1661
LOCATION:Zoom
URL:https://agenda.hepl.phys.nagoya-u.ac.jp/indico/contributionDisplay.py?c
 ontribId=0&confId=1661
END:VEVENT
BEGIN:VEVENT
SUMMARY:はじめに
DTSTART;VALUE=DATE-TIME:20210309T050000Z
DTEND;VALUE=DATE-TIME:20210309T050500Z
DTSTAMP;VALUE=DATE-TIME:20260425T132335Z
UID:indico-contribution-1661-2@cern.ch
DESCRIPTION:Speakers: ICHIKAWA\, Atsuko (Kyoto University)\nhttps://agenda.
 hepl.phys.nagoya-u.ac.jp/indico/contributionDisplay.py?contribId=2&confId=
 1661
LOCATION:Zoom
URL:https://agenda.hepl.phys.nagoya-u.ac.jp/indico/contributionDisplay.py?c
 ontribId=2&confId=1661
END:VEVENT
END:VCALENDAR
