BEGIN:VCALENDAR
VERSION:2.0
PRODID:-//CERN//INDICO//EN
BEGIN:VEVENT
SUMMARY:第8回勉強会：加速器その２
DTSTART;VALUE=DATE-TIME:20210309T050000Z
DTEND;VALUE=DATE-TIME:20210309T070000Z
DTSTAMP;VALUE=DATE-TIME:20260425T132336Z
UID:indico-event-1661@cern.ch
DESCRIPTION:高エネルギー将来計画委員会：第8回 勉強会 (
 hecforumにオープン)『次世代加速器その２』接続手段：Zo
 om https://kyoto-u-edu.zoom.us/j/84184708440?pwd=RS9ycGNkSmZ2SnZ6aGFZWk04
 N3ArUT09 \n・会議中は、原則ミュート機能をご使用いた
 き、発言をする際にミュートを解除してください。\n
        Slack ワークスペース：CFP  #勉強会 チャンネル今
 も、チャットツールで、勉強会の発表に対する質疑や
 メントを受け付けます。\n      登録リンクは、こちら
 https://join.slack.com/t/cfphep/signup?x=x-p1045853009543-1045853009639-
 1047939514803メールアドレスが @cern.ch\, @kek.jp\, 
 @post.kek.jp の方は申請すれば、すぐに登録できます。\n
    それ以外の方は少々お時間いただくかもしれません
 お近くの将来委員 (e.g. 石川・中浜) or 
 すでにメンバーの方に頼んでください。\n     \n\nhttps://
 agenda.hepl.phys.nagoya-u.ac.jp/indico/conferenceDisplay.py?confId=1661
LOCATION:Zoom
URL:https://agenda.hepl.phys.nagoya-u.ac.jp/indico/conferenceDisplay.py?con
 fId=1661
END:VEVENT
END:VCALENDAR
