BEGIN:VCALENDAR
VERSION:2.0
PRODID:-//CERN//INDICO//EN
BEGIN:VEVENT
SUMMARY:Precision measurement で探る新物理
DTSTART;VALUE=DATE-TIME:20210422T013500Z
DTEND;VALUE=DATE-TIME:20210422T023500Z
DTSTAMP;VALUE=DATE-TIME:20260425T132336Z
UID:indico-contribution-1690-1@cern.ch
DESCRIPTION:Speakers: KITAHARA\, Teppei (Nagoya University)\nhttps://agenda
 .hepl.phys.nagoya-u.ac.jp/indico/contributionDisplay.py?contribId=1&confId
 =1690
LOCATION:テレビ会議
URL:https://agenda.hepl.phys.nagoya-u.ac.jp/indico/contributionDisplay.py?c
 ontribId=1&confId=1690
END:VEVENT
BEGIN:VEVENT
SUMMARY:はじめに
DTSTART;VALUE=DATE-TIME:20210422T013000Z
DTEND;VALUE=DATE-TIME:20210422T013500Z
DTSTAMP;VALUE=DATE-TIME:20260425T132336Z
UID:indico-contribution-1690-2@cern.ch
DESCRIPTION:Speakers: ICHIKAWA\, Atsuko (Kyoto University)\, NAKAHAMA\, Yu 
 (Nagoya KMI)\nhttps://agenda.hepl.phys.nagoya-u.ac.jp/indico/contributionD
 isplay.py?contribId=2&confId=1690
LOCATION:テレビ会議
URL:https://agenda.hepl.phys.nagoya-u.ac.jp/indico/contributionDisplay.py?c
 ontribId=2&confId=1690
END:VEVENT
END:VCALENDAR
