BEGIN:VCALENDAR
VERSION:2.0
PRODID:-//CERN//INDICO//EN
BEGIN:VEVENT
SUMMARY:はじめに
DTSTART;VALUE=DATE-TIME:20210531T070000Z
DTEND;VALUE=DATE-TIME:20210531T070500Z
DTSTAMP;VALUE=DATE-TIME:20260425T132414Z
UID:indico-contribution-1723-1@cern.ch
DESCRIPTION:Speakers: ICHIKAWA\, Atsuko (Kyoto University)\nhttps://agenda.
 hepl.phys.nagoya-u.ac.jp/indico/contributionDisplay.py?contribId=1&confId=
 1723
LOCATION:テレビ会議
URL:https://agenda.hepl.phys.nagoya-u.ac.jp/indico/contributionDisplay.py?c
 ontribId=1&confId=1723
END:VEVENT
BEGIN:VEVENT
SUMMARY:ミューオン (30'+15')
DTSTART;VALUE=DATE-TIME:20210531T070500Z
DTEND;VALUE=DATE-TIME:20210531T073500Z
DTSTAMP;VALUE=DATE-TIME:20260425T132414Z
UID:indico-contribution-1723-0@cern.ch
DESCRIPTION:Speakers: MIBE\, Tsutomu (KEK IPNS)\nhttps://agenda.hepl.phys.n
 agoya-u.ac.jp/indico/contributionDisplay.py?contribId=0&confId=1723
LOCATION:テレビ会議
URL:https://agenda.hepl.phys.nagoya-u.ac.jp/indico/contributionDisplay.py?c
 ontribId=0&confId=1723
END:VEVENT
BEGIN:VEVENT
SUMMARY:タウ (30'+15')
DTSTART;VALUE=DATE-TIME:20210531T075000Z
DTEND;VALUE=DATE-TIME:20210531T082000Z
DTSTAMP;VALUE=DATE-TIME:20260425T132414Z
UID:indico-contribution-1723-2@cern.ch
DESCRIPTION:Speakers: HAYASAKA\, Kiyoshi (Niigata University)\nhttps://agen
 da.hepl.phys.nagoya-u.ac.jp/indico/contributionDisplay.py?contribId=2&conf
 Id=1723
LOCATION:テレビ会議
URL:https://agenda.hepl.phys.nagoya-u.ac.jp/indico/contributionDisplay.py?c
 ontribId=2&confId=1723
END:VEVENT
END:VCALENDAR
