BEGIN:VCALENDAR
VERSION:2.0
PRODID:-//CERN//INDICO//EN
BEGIN:VEVENT
SUMMARY:拡大高エネルギー委員会
DTSTART;VALUE=DATE-TIME:20210821T043000Z
DTEND;VALUE=DATE-TIME:20210821T065000Z
DTSTAMP;VALUE=DATE-TIME:20260425T132336Z
UID:indico-event-1800@cern.ch
DESCRIPTION:Zoom リンク情報：\nhttps://kyoto-u-edu.zoom.us/j/81031239
 506?pwd=aEJ5bmRpcTFia0VyYUpZdG8vVE15QT09\nミーティングID: 810 3123 
 9506\nパスコード: 574413\n\nhttps://agenda.hepl.phys.nagoya-u.ac.jp/i
 ndico/conferenceDisplay.py?confId=1800
LOCATION:
URL:https://agenda.hepl.phys.nagoya-u.ac.jp/indico/conferenceDisplay.py?con
 fId=1800
END:VEVENT
END:VCALENDAR
