BEGIN:VCALENDAR
VERSION:2.0
PRODID:-//CERN//INDICO//EN
BEGIN:VEVENT
SUMMARY:Experimental status of light quark axial vector mesons
DTSTART;VALUE=DATE-TIME:20140418T082000Z
DTEND;VALUE=DATE-TIME:20140418T082500Z
DTSTAMP;VALUE=DATE-TIME:20260425T145319Z
UID:indico-contribution-2-42@cern.ch
DESCRIPTION:Speakers: T. MATSUDA ()\nhttps://agenda.hepl.phys.nagoya-u.ac.j
 p/indico/contributionDisplay.py?contribId=42&sessionId=0&confId=2
LOCATION:Nagoya University ES Hall\, ES Building 1st floor
URL:https://agenda.hepl.phys.nagoya-u.ac.jp/indico/contributionDisplay.py?c
 ontribId=42&sessionId=0&confId=2
END:VEVENT
BEGIN:VEVENT
SUMMARY:Silica aerogel Cherenkov radiator for hadron physics experiments
DTSTART;VALUE=DATE-TIME:20140418T082500Z
DTEND;VALUE=DATE-TIME:20140418T083000Z
DTSTAMP;VALUE=DATE-TIME:20260425T145319Z
UID:indico-contribution-2-43@cern.ch
DESCRIPTION:Speakers: M. TABATA ()\nhttps://agenda.hepl.phys.nagoya-u.ac.jp
 /indico/contributionDisplay.py?contribId=43&sessionId=0&confId=2
LOCATION:Nagoya University ES Hall\, ES Building 1st floor
URL:https://agenda.hepl.phys.nagoya-u.ac.jp/indico/contributionDisplay.py?c
 ontribId=43&sessionId=0&confId=2
END:VEVENT
BEGIN:VEVENT
SUMMARY:Closing Remarks
DTSTART;VALUE=DATE-TIME:20140419T033000Z
DTEND;VALUE=DATE-TIME:20140419T040000Z
DTSTAMP;VALUE=DATE-TIME:20260425T145319Z
UID:indico-contribution-2-24@cern.ch
DESCRIPTION:Speakers: T. NAKANO ()\nhttps://agenda.hepl.phys.nagoya-u.ac.jp
 /indico/contributionDisplay.py?contribId=24&sessionId=8&confId=2
LOCATION:Nagoya University ES Hall\, ES Building 1st floor
URL:https://agenda.hepl.phys.nagoya-u.ac.jp/indico/contributionDisplay.py?c
 ontribId=24&sessionId=8&confId=2
END:VEVENT
BEGIN:VEVENT
SUMMARY:Hadron physics in QCD phase transition
DTSTART;VALUE=DATE-TIME:20140418T053000Z
DTEND;VALUE=DATE-TIME:20140418T060000Z
DTSTAMP;VALUE=DATE-TIME:20260425T145319Z
UID:indico-contribution-2-25@cern.ch
DESCRIPTION:Speakers: K. FUKUSHIMA ()\nhttps://agenda.hepl.phys.nagoya-u.ac
 .jp/indico/contributionDisplay.py?contribId=25&sessionId=6&confId=2
LOCATION:Nagoya University ES Hall\, ES Building 1st floor
URL:https://agenda.hepl.phys.nagoya-u.ac.jp/indico/contributionDisplay.py?c
 ontribId=25&sessionId=6&confId=2
END:VEVENT
BEGIN:VEVENT
SUMMARY:eta' in medium
DTSTART;VALUE=DATE-TIME:20140418T070000Z
DTEND;VALUE=DATE-TIME:20140418T070500Z
DTSTAMP;VALUE=DATE-TIME:20260425T145319Z
UID:indico-contribution-2-26@cern.ch
DESCRIPTION:Speakers: SU HOUNG LEE ()\nhttps://agenda.hepl.phys.nagoya-u.ac
 .jp/indico/contributionDisplay.py?contribId=26&sessionId=0&confId=2
LOCATION:Nagoya University ES Hall\, ES Building 1st floor
URL:https://agenda.hepl.phys.nagoya-u.ac.jp/indico/contributionDisplay.py?c
 ontribId=26&sessionId=0&confId=2
END:VEVENT
BEGIN:VEVENT
SUMMARY:Is the X(3915)-> ωJ/ψ resonance the χc0?
DTSTART;VALUE=DATE-TIME:20140418T070500Z
DTEND;VALUE=DATE-TIME:20140418T071000Z
DTSTAMP;VALUE=DATE-TIME:20260425T145319Z
UID:indico-contribution-2-27@cern.ch
DESCRIPTION:Speakers: S. OLSEN ()\nhttps://agenda.hepl.phys.nagoya-u.ac.jp/
 indico/contributionDisplay.py?contribId=27&sessionId=0&confId=2
LOCATION:Nagoya University ES Hall\, ES Building 1st floor
URL:https://agenda.hepl.phys.nagoya-u.ac.jp/indico/contributionDisplay.py?c
 ontribId=27&sessionId=0&confId=2
END:VEVENT
BEGIN:VEVENT
SUMMARY:Application of AdS/CFT Correspondence to Non-equilibrium Physics
DTSTART;VALUE=DATE-TIME:20140419T010000Z
DTEND;VALUE=DATE-TIME:20140419T013000Z
DTSTAMP;VALUE=DATE-TIME:20260425T145319Z
UID:indico-contribution-2-20@cern.ch
DESCRIPTION:Speakers: S. NAKAMURA ()\nhttps://agenda.hepl.phys.nagoya-u.ac.
 jp/indico/contributionDisplay.py?contribId=20&sessionId=7&confId=2
LOCATION:Nagoya University ES Hall\, ES Building 1st floor
URL:https://agenda.hepl.phys.nagoya-u.ac.jp/indico/contributionDisplay.py?c
 ontribId=20&sessionId=7&confId=2
END:VEVENT
BEGIN:VEVENT
SUMMARY:QCD with many flavors
DTSTART;VALUE=DATE-TIME:20140419T020000Z
DTEND;VALUE=DATE-TIME:20140419T023000Z
DTSTAMP;VALUE=DATE-TIME:20260425T145319Z
UID:indico-contribution-2-21@cern.ch
DESCRIPTION:Speakers: Y. AOKI ()\nhttps://agenda.hepl.phys.nagoya-u.ac.jp/i
 ndico/contributionDisplay.py?contribId=21&sessionId=8&confId=2
LOCATION:Nagoya University ES Hall\, ES Building 1st floor
URL:https://agenda.hepl.phys.nagoya-u.ac.jp/indico/contributionDisplay.py?c
 ontribId=21&sessionId=8&confId=2
END:VEVENT
BEGIN:VEVENT
SUMMARY:Hadron physics at finite density
DTSTART;VALUE=DATE-TIME:20140419T023000Z
DTEND;VALUE=DATE-TIME:20140419T030000Z
DTSTAMP;VALUE=DATE-TIME:20260425T145319Z
UID:indico-contribution-2-22@cern.ch
DESCRIPTION:Speakers: T. HATSUDA ()\nhttps://agenda.hepl.phys.nagoya-u.ac.j
 p/indico/contributionDisplay.py?contribId=22&sessionId=8&confId=2
LOCATION:Nagoya University ES Hall\, ES Building 1st floor
URL:https://agenda.hepl.phys.nagoya-u.ac.jp/indico/contributionDisplay.py?c
 ontribId=22&sessionId=8&confId=2
END:VEVENT
BEGIN:VEVENT
SUMMARY:Hadron Spectroscopy with High-momentum secondary beam
DTSTART;VALUE=DATE-TIME:20140419T030000Z
DTEND;VALUE=DATE-TIME:20140419T033000Z
DTSTAMP;VALUE=DATE-TIME:20260425T145319Z
UID:indico-contribution-2-23@cern.ch
DESCRIPTION:Speakers: M. NARUKI ()\nhttps://agenda.hepl.phys.nagoya-u.ac.jp
 /indico/contributionDisplay.py?contribId=23&sessionId=8&confId=2
LOCATION:Nagoya University ES Hall\, ES Building 1st floor
URL:https://agenda.hepl.phys.nagoya-u.ac.jp/indico/contributionDisplay.py?c
 ontribId=23&sessionId=8&confId=2
END:VEVENT
BEGIN:VEVENT
SUMMARY:Performance study of the TOP counter for the BelleⅡ experiment
DTSTART;VALUE=DATE-TIME:20140418T084000Z
DTEND;VALUE=DATE-TIME:20140418T084500Z
DTSTAMP;VALUE=DATE-TIME:20260425T145319Z
UID:indico-contribution-2-46@cern.ch
DESCRIPTION:Speakers: K. MATSUOKA ()\nhttps://agenda.hepl.phys.nagoya-u.ac.
 jp/indico/contributionDisplay.py?contribId=46&sessionId=0&confId=2
LOCATION:Nagoya University ES Hall\, ES Building 1st floor
URL:https://agenda.hepl.phys.nagoya-u.ac.jp/indico/contributionDisplay.py?c
 ontribId=46&sessionId=0&confId=2
END:VEVENT
BEGIN:VEVENT
SUMMARY:Development of GEM trigger for the J-PARC E16 experiment
DTSTART;VALUE=DATE-TIME:20140418T084500Z
DTEND;VALUE=DATE-TIME:20140418T085000Z
DTSTAMP;VALUE=DATE-TIME:20260425T145319Z
UID:indico-contribution-2-47@cern.ch
DESCRIPTION:Speakers: Y. OBARA ()\nhttps://agenda.hepl.phys.nagoya-u.ac.jp/
 indico/contributionDisplay.py?contribId=47&sessionId=0&confId=2
LOCATION:Nagoya University ES Hall\, ES Building 1st floor
URL:https://agenda.hepl.phys.nagoya-u.ac.jp/indico/contributionDisplay.py?c
 ontribId=47&sessionId=0&confId=2
END:VEVENT
BEGIN:VEVENT
SUMMARY:D and D* meson mixing in cold nuclear matter
DTSTART;VALUE=DATE-TIME:20140418T083000Z
DTEND;VALUE=DATE-TIME:20140418T083500Z
DTSTAMP;VALUE=DATE-TIME:20260425T145319Z
UID:indico-contribution-2-44@cern.ch
DESCRIPTION:Speakers: D. SUENAGA ()\nhttps://agenda.hepl.phys.nagoya-u.ac.j
 p/indico/contributionDisplay.py?contribId=44&sessionId=0&confId=2
LOCATION:Nagoya University ES Hall\, ES Building 1st floor
URL:https://agenda.hepl.phys.nagoya-u.ac.jp/indico/contributionDisplay.py?c
 ontribId=44&sessionId=0&confId=2
END:VEVENT
BEGIN:VEVENT
SUMMARY:Enhancement of chiral symmetry breaking from the pion condensation 
 at finite isospin chemical potential in a holographic QCD model
DTSTART;VALUE=DATE-TIME:20140418T083500Z
DTEND;VALUE=DATE-TIME:20140418T084000Z
DTSTAMP;VALUE=DATE-TIME:20260425T145319Z
UID:indico-contribution-2-45@cern.ch
DESCRIPTION:Speakers: H. NISHIHARA ()\nhttps://agenda.hepl.phys.nagoya-u.ac
 .jp/indico/contributionDisplay.py?contribId=45&sessionId=0&confId=2
LOCATION:Nagoya University ES Hall\, ES Building 1st floor
URL:https://agenda.hepl.phys.nagoya-u.ac.jp/indico/contributionDisplay.py?c
 ontribId=45&sessionId=0&confId=2
END:VEVENT
BEGIN:VEVENT
SUMMARY:Heavy quark symmetry and D-D* mixing in exotic hadron-nuclear 
 systems
DTSTART;VALUE=DATE-TIME:20140418T071000Z
DTEND;VALUE=DATE-TIME:20140418T071500Z
DTSTAMP;VALUE=DATE-TIME:20260425T145319Z
UID:indico-contribution-2-28@cern.ch
DESCRIPTION:Speakers: S. YASUI ()\nhttps://agenda.hepl.phys.nagoya-u.ac.jp/
 indico/contributionDisplay.py?contribId=28&sessionId=0&confId=2
LOCATION:Nagoya University ES Hall\, ES Building 1st floor
URL:https://agenda.hepl.phys.nagoya-u.ac.jp/indico/contributionDisplay.py?c
 ontribId=28&sessionId=0&confId=2
END:VEVENT
BEGIN:VEVENT
SUMMARY:Exotic baryons from a heavy meson and a nucleon
DTSTART;VALUE=DATE-TIME:20140418T071500Z
DTEND;VALUE=DATE-TIME:20140418T072000Z
DTSTAMP;VALUE=DATE-TIME:20260425T145319Z
UID:indico-contribution-2-29@cern.ch
DESCRIPTION:Speakers: Y. YAMAGUCHI ()\nhttps://agenda.hepl.phys.nagoya-u.ac
 .jp/indico/contributionDisplay.py?contribId=29&sessionId=0&confId=2
LOCATION:Nagoya University ES Hall\, ES Building 1st floor
URL:https://agenda.hepl.phys.nagoya-u.ac.jp/indico/contributionDisplay.py?c
 ontribId=29&sessionId=0&confId=2
END:VEVENT
BEGIN:VEVENT
SUMMARY:Charmed baryon spectroscopy at Belle
DTSTART;VALUE=DATE-TIME:20140418T081000Z
DTEND;VALUE=DATE-TIME:20140418T081500Z
DTSTAMP;VALUE=DATE-TIME:20260425T145319Z
UID:indico-contribution-2-40@cern.ch
DESCRIPTION:Speakers: Y. KATO ()\nhttps://agenda.hepl.phys.nagoya-u.ac.jp/i
 ndico/contributionDisplay.py?contribId=40&sessionId=0&confId=2
LOCATION:Nagoya University ES Hall\, ES Building 1st floor
URL:https://agenda.hepl.phys.nagoya-u.ac.jp/indico/contributionDisplay.py?c
 ontribId=40&sessionId=0&confId=2
END:VEVENT
BEGIN:VEVENT
SUMMARY:Development and Construction of the BelleⅡ TOP counter
DTSTART;VALUE=DATE-TIME:20140418T081500Z
DTEND;VALUE=DATE-TIME:20140418T082000Z
DTSTAMP;VALUE=DATE-TIME:20260425T145319Z
UID:indico-contribution-2-41@cern.ch
DESCRIPTION:Speakers: D. FURUMURA AND T. HAYAKAWA ()\nhttps://agenda.hepl.p
 hys.nagoya-u.ac.jp/indico/contributionDisplay.py?contribId=41&sessionId=0&
 confId=2
LOCATION:Nagoya University ES Hall\, ES Building 1st floor
URL:https://agenda.hepl.phys.nagoya-u.ac.jp/indico/contributionDisplay.py?c
 ontribId=41&sessionId=0&confId=2
END:VEVENT
BEGIN:VEVENT
SUMMARY:Hadron physics at Belle
DTSTART;VALUE=DATE-TIME:20140417T050000Z
DTEND;VALUE=DATE-TIME:20140417T053000Z
DTSTAMP;VALUE=DATE-TIME:20260425T145319Z
UID:indico-contribution-2-1@cern.ch
DESCRIPTION:Speakers: Y. SAKAI ()\nhttps://agenda.hepl.phys.nagoya-u.ac.jp/
 indico/contributionDisplay.py?contribId=1&sessionId=2&confId=2
LOCATION:Nagoya University ES Hall\, ES Building 1st floor
URL:https://agenda.hepl.phys.nagoya-u.ac.jp/indico/contributionDisplay.py?c
 ontribId=1&sessionId=2&confId=2
END:VEVENT
BEGIN:VEVENT
SUMMARY:Opening Remarks
DTSTART;VALUE=DATE-TIME:20140417T043000Z
DTEND;VALUE=DATE-TIME:20140417T050000Z
DTSTAMP;VALUE=DATE-TIME:20260425T145319Z
UID:indico-contribution-2-0@cern.ch
DESCRIPTION:Speakers: T. IIJIMA ()\nhttps://agenda.hepl.phys.nagoya-u.ac.jp
 /indico/contributionDisplay.py?contribId=0&sessionId=2&confId=2
LOCATION:Nagoya University ES Hall\, ES Building 1st floor
URL:https://agenda.hepl.phys.nagoya-u.ac.jp/indico/contributionDisplay.py?c
 ontribId=0&sessionId=2&confId=2
END:VEVENT
BEGIN:VEVENT
SUMMARY:Prospect at e+e- colliders
DTSTART;VALUE=DATE-TIME:20140417T060000Z
DTEND;VALUE=DATE-TIME:20140417T063000Z
DTSTAMP;VALUE=DATE-TIME:20260425T145319Z
UID:indico-contribution-2-3@cern.ch
DESCRIPTION:Speakers: K. MIYABAYASHI ()\nhttps://agenda.hepl.phys.nagoya-u.
 ac.jp/indico/contributionDisplay.py?contribId=3&sessionId=2&confId=2
LOCATION:Nagoya University ES Hall\, ES Building 1st floor
URL:https://agenda.hepl.phys.nagoya-u.ac.jp/indico/contributionDisplay.py?c
 ontribId=3&sessionId=2&confId=2
END:VEVENT
BEGIN:VEVENT
SUMMARY:XYZ
DTSTART;VALUE=DATE-TIME:20140417T053000Z
DTEND;VALUE=DATE-TIME:20140417T060000Z
DTSTAMP;VALUE=DATE-TIME:20260425T145319Z
UID:indico-contribution-2-2@cern.ch
DESCRIPTION:Speakers: S. OLSEN ()\nhttps://agenda.hepl.phys.nagoya-u.ac.jp/
 indico/contributionDisplay.py?contribId=2&sessionId=2&confId=2
LOCATION:Nagoya University ES Hall\, ES Building 1st floor
URL:https://agenda.hepl.phys.nagoya-u.ac.jp/indico/contributionDisplay.py?c
 ontribId=2&sessionId=2&confId=2
END:VEVENT
BEGIN:VEVENT
SUMMARY:Hadron production in heavy-ion collisions
DTSTART;VALUE=DATE-TIME:20140417T073000Z
DTEND;VALUE=DATE-TIME:20140417T080000Z
DTSTAMP;VALUE=DATE-TIME:20260425T145319Z
UID:indico-contribution-2-5@cern.ch
DESCRIPTION:Speakers: S. H. LEE ()\nhttps://agenda.hepl.phys.nagoya-u.ac.jp
 /indico/contributionDisplay.py?contribId=5&sessionId=3&confId=2
LOCATION:Nagoya University ES Hall\, ES Building 1st floor
URL:https://agenda.hepl.phys.nagoya-u.ac.jp/indico/contributionDisplay.py?c
 ontribId=5&sessionId=3&confId=2
END:VEVENT
BEGIN:VEVENT
SUMMARY:Physics at High Energy Nucleus-Nucleus Colliders: Prospect and 
 Relevance to Hadron Physics
DTSTART;VALUE=DATE-TIME:20140417T070000Z
DTEND;VALUE=DATE-TIME:20140417T073000Z
DTSTAMP;VALUE=DATE-TIME:20260425T145319Z
UID:indico-contribution-2-4@cern.ch
DESCRIPTION:Speakers: K. SHIGAKI ()\nhttps://agenda.hepl.phys.nagoya-u.ac.j
 p/indico/contributionDisplay.py?contribId=4&sessionId=3&confId=2
LOCATION:Nagoya University ES Hall\, ES Building 1st floor
URL:https://agenda.hepl.phys.nagoya-u.ac.jp/indico/contributionDisplay.py?c
 ontribId=4&sessionId=3&confId=2
END:VEVENT
BEGIN:VEVENT
SUMMARY:Hadron physics at extremely high energy
DTSTART;VALUE=DATE-TIME:20140417T083000Z
DTEND;VALUE=DATE-TIME:20140417T090000Z
DTSTAMP;VALUE=DATE-TIME:20260425T145319Z
UID:indico-contribution-2-7@cern.ch
DESCRIPTION:Speakers: Y. ITOW ()\nhttps://agenda.hepl.phys.nagoya-u.ac.jp/i
 ndico/contributionDisplay.py?contribId=7&sessionId=3&confId=2
LOCATION:Nagoya University ES Hall\, ES Building 1st floor
URL:https://agenda.hepl.phys.nagoya-u.ac.jp/indico/contributionDisplay.py?c
 ontribId=7&sessionId=3&confId=2
END:VEVENT
BEGIN:VEVENT
SUMMARY:Hadron physics & Astrophysics
DTSTART;VALUE=DATE-TIME:20140417T080000Z
DTEND;VALUE=DATE-TIME:20140417T083000Z
DTSTAMP;VALUE=DATE-TIME:20260425T145319Z
UID:indico-contribution-2-6@cern.ch
DESCRIPTION:Speakers: A. OHNISHI ()\nhttps://agenda.hepl.phys.nagoya-u.ac.j
 p/indico/contributionDisplay.py?contribId=6&sessionId=3&confId=2
LOCATION:Nagoya University ES Hall\, ES Building 1st floor
URL:https://agenda.hepl.phys.nagoya-u.ac.jp/indico/contributionDisplay.py?c
 ontribId=6&sessionId=3&confId=2
END:VEVENT
BEGIN:VEVENT
SUMMARY:Hadron physics at CLAS
DTSTART;VALUE=DATE-TIME:20140418T003000Z
DTEND;VALUE=DATE-TIME:20140418T010000Z
DTSTAMP;VALUE=DATE-TIME:20260425T145319Z
UID:indico-contribution-2-9@cern.ch
DESCRIPTION:Speakers: K. HICKS ()\nhttps://agenda.hepl.phys.nagoya-u.ac.jp/
 indico/contributionDisplay.py?contribId=9&sessionId=4&confId=2
LOCATION:Nagoya University ES Hall\, ES Building 1st floor
URL:https://agenda.hepl.phys.nagoya-u.ac.jp/indico/contributionDisplay.py?c
 ontribId=9&sessionId=4&confId=2
END:VEVENT
BEGIN:VEVENT
SUMMARY:Hadron physics at LEPS/SPring-8
DTSTART;VALUE=DATE-TIME:20140418T000000Z
DTEND;VALUE=DATE-TIME:20140418T003000Z
DTSTAMP;VALUE=DATE-TIME:20260425T145319Z
UID:indico-contribution-2-8@cern.ch
DESCRIPTION:Speakers: H. NOUMI ()\nhttps://agenda.hepl.phys.nagoya-u.ac.jp/
 indico/contributionDisplay.py?contribId=8&sessionId=4&confId=2
LOCATION:Nagoya University ES Hall\, ES Building 1st floor
URL:https://agenda.hepl.phys.nagoya-u.ac.jp/indico/contributionDisplay.py?c
 ontribId=8&sessionId=4&confId=2
END:VEVENT
BEGIN:VEVENT
SUMMARY:The isospin mixing of X(3872) and the vector meson widths
DTSTART;VALUE=DATE-TIME:20140418T080500Z
DTEND;VALUE=DATE-TIME:20140418T081000Z
DTSTAMP;VALUE=DATE-TIME:20260425T145319Z
UID:indico-contribution-2-39@cern.ch
DESCRIPTION:Speakers: S. TAKEUCHI ()\nhttps://agenda.hepl.phys.nagoya-u.ac.
 jp/indico/contributionDisplay.py?contribId=39&sessionId=0&confId=2
LOCATION:Nagoya University ES Hall\, ES Building 1st floor
URL:https://agenda.hepl.phys.nagoya-u.ac.jp/indico/contributionDisplay.py?c
 ontribId=39&sessionId=0&confId=2
END:VEVENT
BEGIN:VEVENT
SUMMARY:New Results from QCD Sum Rules
DTSTART;VALUE=DATE-TIME:20140418T024000Z
DTEND;VALUE=DATE-TIME:20140418T031000Z
DTSTAMP;VALUE=DATE-TIME:20260425T145319Z
UID:indico-contribution-2-12@cern.ch
DESCRIPTION:Speakers: M. OKA ()\nhttps://agenda.hepl.phys.nagoya-u.ac.jp/in
 dico/contributionDisplay.py?contribId=12&sessionId=5&confId=2
LOCATION:Nagoya University ES Hall\, ES Building 1st floor
URL:https://agenda.hepl.phys.nagoya-u.ac.jp/indico/contributionDisplay.py?c
 ontribId=12&sessionId=5&confId=2
END:VEVENT
BEGIN:VEVENT
SUMMARY:Theory summary and further
DTSTART;VALUE=DATE-TIME:20140418T021000Z
DTEND;VALUE=DATE-TIME:20140418T024000Z
DTSTAMP;VALUE=DATE-TIME:20260425T145319Z
UID:indico-contribution-2-11@cern.ch
DESCRIPTION:Speakers: A. HOSAKA ()\nhttps://agenda.hepl.phys.nagoya-u.ac.jp
 /indico/contributionDisplay.py?contribId=11&sessionId=5&confId=2
LOCATION:Nagoya University ES Hall\, ES Building 1st floor
URL:https://agenda.hepl.phys.nagoya-u.ac.jp/indico/contributionDisplay.py?c
 ontribId=11&sessionId=5&confId=2
END:VEVENT
BEGIN:VEVENT
SUMMARY:Hadron physics at LEPS2
DTSTART;VALUE=DATE-TIME:20140418T010000Z
DTEND;VALUE=DATE-TIME:20140418T013000Z
DTSTAMP;VALUE=DATE-TIME:20260425T145319Z
UID:indico-contribution-2-10@cern.ch
DESCRIPTION:Speakers: M. YOSOI ()\nhttps://agenda.hepl.phys.nagoya-u.ac.jp/
 indico/contributionDisplay.py?contribId=10&sessionId=4&confId=2
LOCATION:Nagoya University ES Hall\, ES Building 1st floor
URL:https://agenda.hepl.phys.nagoya-u.ac.jp/indico/contributionDisplay.py?c
 ontribId=10&sessionId=4&confId=2
END:VEVENT
BEGIN:VEVENT
SUMMARY:Heavy quarkonium potential from lattice QCD
DTSTART;VALUE=DATE-TIME:20140418T031000Z
DTEND;VALUE=DATE-TIME:20140418T034000Z
DTSTAMP;VALUE=DATE-TIME:20260425T145319Z
UID:indico-contribution-2-13@cern.ch
DESCRIPTION:Speakers: S. SASAKI ()\nhttps://agenda.hepl.phys.nagoya-u.ac.jp
 /indico/contributionDisplay.py?contribId=13&sessionId=5&confId=2
LOCATION:Nagoya University ES Hall\, ES Building 1st floor
URL:https://agenda.hepl.phys.nagoya-u.ac.jp/indico/contributionDisplay.py?c
 ontribId=13&sessionId=5&confId=2
END:VEVENT
BEGIN:VEVENT
SUMMARY:Belle Ⅱ Ring Imaging Cherenkov Counter Based on Silica Aerogel 
 Radiator
DTSTART;VALUE=DATE-TIME:20140418T080000Z
DTEND;VALUE=DATE-TIME:20140418T080500Z
DTSTAMP;VALUE=DATE-TIME:20260425T145319Z
UID:indico-contribution-2-38@cern.ch
DESCRIPTION:Speakers: I. ADACHI ()\nhttps://agenda.hepl.phys.nagoya-u.ac.jp
 /indico/contributionDisplay.py?contribId=38&sessionId=0&confId=2
LOCATION:Nagoya University ES Hall\, ES Building 1st floor
URL:https://agenda.hepl.phys.nagoya-u.ac.jp/indico/contributionDisplay.py?c
 ontribId=38&sessionId=0&confId=2
END:VEVENT
BEGIN:VEVENT
SUMMARY:Status and Prospect of J-PARC E16
DTSTART;VALUE=DATE-TIME:20140418T060000Z
DTEND;VALUE=DATE-TIME:20140418T063000Z
DTSTAMP;VALUE=DATE-TIME:20260425T145319Z
UID:indico-contribution-2-15@cern.ch
DESCRIPTION:Speakers: H. ENYO ()\nhttps://agenda.hepl.phys.nagoya-u.ac.jp/i
 ndico/contributionDisplay.py?contribId=15&sessionId=6&confId=2
LOCATION:Nagoya University ES Hall\, ES Building 1st floor
URL:https://agenda.hepl.phys.nagoya-u.ac.jp/indico/contributionDisplay.py?c
 ontribId=15&sessionId=6&confId=2
END:VEVENT
BEGIN:VEVENT
SUMMARY:Hadron Physics and related topics at HPCI
DTSTART;VALUE=DATE-TIME:20140418T034000Z
DTEND;VALUE=DATE-TIME:20140418T041000Z
DTSTAMP;VALUE=DATE-TIME:20260425T145319Z
UID:indico-contribution-2-14@cern.ch
DESCRIPTION:Speakers: N. ISHII ()\nhttps://agenda.hepl.phys.nagoya-u.ac.jp/
 indico/contributionDisplay.py?contribId=14&sessionId=5&confId=2
LOCATION:Nagoya University ES Hall\, ES Building 1st floor
URL:https://agenda.hepl.phys.nagoya-u.ac.jp/indico/contributionDisplay.py?c
 ontribId=14&sessionId=5&confId=2
END:VEVENT
BEGIN:VEVENT
SUMMARY:Future plan at BNL
DTSTART;VALUE=DATE-TIME:20140418T063000Z
DTEND;VALUE=DATE-TIME:20140418T070000Z
DTSTAMP;VALUE=DATE-TIME:20260425T145319Z
UID:indico-contribution-2-16@cern.ch
DESCRIPTION:Speakers: Y. AKIBA ()\nhttps://agenda.hepl.phys.nagoya-u.ac.jp/
 indico/contributionDisplay.py?contribId=16&sessionId=6&confId=2
LOCATION:Nagoya University ES Hall\, ES Building 1st floor
URL:https://agenda.hepl.phys.nagoya-u.ac.jp/indico/contributionDisplay.py?c
 ontribId=16&sessionId=6&confId=2
END:VEVENT
BEGIN:VEVENT
SUMMARY:Hadron physics and string theory
DTSTART;VALUE=DATE-TIME:20140419T003000Z
DTEND;VALUE=DATE-TIME:20140419T010000Z
DTSTAMP;VALUE=DATE-TIME:20260425T145319Z
UID:indico-contribution-2-19@cern.ch
DESCRIPTION:Speakers: K. HASHIMOTO ()\nhttps://agenda.hepl.phys.nagoya-u.ac
 .jp/indico/contributionDisplay.py?contribId=19&sessionId=7&confId=2
LOCATION:Nagoya University ES Hall\, ES Building 1st floor
URL:https://agenda.hepl.phys.nagoya-u.ac.jp/indico/contributionDisplay.py?c
 ontribId=19&sessionId=7&confId=2
END:VEVENT
BEGIN:VEVENT
SUMMARY:Universal physics of three bosons with isospin
DTSTART;VALUE=DATE-TIME:20140419T000000Z
DTEND;VALUE=DATE-TIME:20140419T003000Z
DTSTAMP;VALUE=DATE-TIME:20260425T145319Z
UID:indico-contribution-2-18@cern.ch
DESCRIPTION:Speakers: T. HYODO ()\nhttps://agenda.hepl.phys.nagoya-u.ac.jp/
 indico/contributionDisplay.py?contribId=18&sessionId=7&confId=2
LOCATION:Nagoya University ES Hall\, ES Building 1st floor
URL:https://agenda.hepl.phys.nagoya-u.ac.jp/indico/contributionDisplay.py?c
 ontribId=18&sessionId=7&confId=2
END:VEVENT
BEGIN:VEVENT
SUMMARY:Future Upgrade and Physics Perspectives of the LHC-ALICE Experiment
DTSTART;VALUE=DATE-TIME:20140418T072500Z
DTEND;VALUE=DATE-TIME:20140418T073000Z
DTSTAMP;VALUE=DATE-TIME:20260425T145319Z
UID:indico-contribution-2-31@cern.ch
DESCRIPTION:Speakers: T. GUNJI ()\nhttps://agenda.hepl.phys.nagoya-u.ac.jp/
 indico/contributionDisplay.py?contribId=31&sessionId=0&confId=2
LOCATION:Nagoya University ES Hall\, ES Building 1st floor
URL:https://agenda.hepl.phys.nagoya-u.ac.jp/indico/contributionDisplay.py?c
 ontribId=31&sessionId=0&confId=2
END:VEVENT
BEGIN:VEVENT
SUMMARY:Study of Recovery from Radiation Damage of Gd2SiO5 Scintillator by 
 Infrared Illumination
DTSTART;VALUE=DATE-TIME:20140418T072000Z
DTEND;VALUE=DATE-TIME:20140418T072500Z
DTSTAMP;VALUE=DATE-TIME:20260425T145319Z
UID:indico-contribution-2-30@cern.ch
DESCRIPTION:Speakers: Q.ZHOU ()\nhttps://agenda.hepl.phys.nagoya-u.ac.jp/in
 dico/contributionDisplay.py?contribId=30&sessionId=0&confId=2
LOCATION:Nagoya University ES Hall\, ES Building 1st floor
URL:https://agenda.hepl.phys.nagoya-u.ac.jp/indico/contributionDisplay.py?c
 ontribId=30&sessionId=0&confId=2
END:VEVENT
BEGIN:VEVENT
SUMMARY:Hadron Physics & Astrophysics
DTSTART;VALUE=DATE-TIME:20140418T075500Z
DTEND;VALUE=DATE-TIME:20140418T080000Z
DTSTAMP;VALUE=DATE-TIME:20260425T145319Z
UID:indico-contribution-2-37@cern.ch
DESCRIPTION:Speakers: A. OHNISHI ()\nhttps://agenda.hepl.phys.nagoya-u.ac.j
 p/indico/contributionDisplay.py?contribId=37&sessionId=0&confId=2
LOCATION:Nagoya University ES Hall\, ES Building 1st floor
URL:https://agenda.hepl.phys.nagoya-u.ac.jp/indico/contributionDisplay.py?c
 ontribId=37&sessionId=0&confId=2
END:VEVENT
BEGIN:VEVENT
SUMMARY:Lattice QCD analysis for the structure of the scaler meson
DTSTART;VALUE=DATE-TIME:20140418T075000Z
DTEND;VALUE=DATE-TIME:20140418T075500Z
DTSTAMP;VALUE=DATE-TIME:20260425T145319Z
UID:indico-contribution-2-36@cern.ch
DESCRIPTION:Speakers: M. WAKAYAMA ()\nhttps://agenda.hepl.phys.nagoya-u.ac.
 jp/indico/contributionDisplay.py?contribId=36&sessionId=0&confId=2
LOCATION:Nagoya University ES Hall\, ES Building 1st floor
URL:https://agenda.hepl.phys.nagoya-u.ac.jp/indico/contributionDisplay.py?c
 ontribId=36&sessionId=0&confId=2
END:VEVENT
BEGIN:VEVENT
SUMMARY:Lattice QCD study for partial restoration of chiral symmetry inside
  color flux-tube
DTSTART;VALUE=DATE-TIME:20140418T074500Z
DTEND;VALUE=DATE-TIME:20140418T075000Z
DTSTAMP;VALUE=DATE-TIME:20260425T145319Z
UID:indico-contribution-2-35@cern.ch
DESCRIPTION:Speakers: T. IRITANI ()\nhttps://agenda.hepl.phys.nagoya-u.ac.j
 p/indico/contributionDisplay.py?contribId=35&sessionId=0&confId=2
LOCATION:Nagoya University ES Hall\, ES Building 1st floor
URL:https://agenda.hepl.phys.nagoya-u.ac.jp/indico/contributionDisplay.py?c
 ontribId=35&sessionId=0&confId=2
END:VEVENT
BEGIN:VEVENT
SUMMARY:New High Momentum Beam Line at J-PARC
DTSTART;VALUE=DATE-TIME:20140418T074000Z
DTEND;VALUE=DATE-TIME:20140418T074500Z
DTSTAMP;VALUE=DATE-TIME:20260425T145319Z
UID:indico-contribution-2-34@cern.ch
DESCRIPTION:Speakers: K. OZAWA ()\nhttps://agenda.hepl.phys.nagoya-u.ac.jp/
 indico/contributionDisplay.py?contribId=34&sessionId=0&confId=2
LOCATION:Nagoya University ES Hall\, ES Building 1st floor
URL:https://agenda.hepl.phys.nagoya-u.ac.jp/indico/contributionDisplay.py?c
 ontribId=34&sessionId=0&confId=2
END:VEVENT
BEGIN:VEVENT
SUMMARY:Measurement of the nuclear factor of forward pi0 production at LHC 
 p-Pb
DTSTART;VALUE=DATE-TIME:20140418T073500Z
DTEND;VALUE=DATE-TIME:20140418T074000Z
DTSTAMP;VALUE=DATE-TIME:20260425T145319Z
UID:indico-contribution-2-33@cern.ch
DESCRIPTION:Speakers: H. MENJO ()\nhttps://agenda.hepl.phys.nagoya-u.ac.jp/
 indico/contributionDisplay.py?contribId=33&sessionId=0&confId=2
LOCATION:Nagoya University ES Hall\, ES Building 1st floor
URL:https://agenda.hepl.phys.nagoya-u.ac.jp/indico/contributionDisplay.py?c
 ontribId=33&sessionId=0&confId=2
END:VEVENT
BEGIN:VEVENT
SUMMARY:Forward hadron production and extensive air shower
DTSTART;VALUE=DATE-TIME:20140418T073000Z
DTEND;VALUE=DATE-TIME:20140418T073500Z
DTSTAMP;VALUE=DATE-TIME:20260425T145319Z
UID:indico-contribution-2-32@cern.ch
DESCRIPTION:Speakers: N. SAKURAI ()\nhttps://agenda.hepl.phys.nagoya-u.ac.j
 p/indico/contributionDisplay.py?contribId=32&sessionId=0&confId=2
LOCATION:Nagoya University ES Hall\, ES Building 1st floor
URL:https://agenda.hepl.phys.nagoya-u.ac.jp/indico/contributionDisplay.py?c
 ontribId=32&sessionId=0&confId=2
END:VEVENT
END:VCALENDAR
