BEGIN:VCALENDAR
VERSION:2.0
PRODID:-//CERN//INDICO//EN
BEGIN:VEVENT
SUMMARY:Hadron physics symposium
DTSTART;VALUE=DATE-TIME:20140417T000000Z
DTEND;VALUE=DATE-TIME:20140419T090000Z
DTSTAMP;VALUE=DATE-TIME:20260425T115347Z
UID:indico-event-2@cern.ch
DESCRIPTION:https://agenda.hepl.phys.nagoya-u.ac.jp/indico/conferenceDispla
 y.py?confId=2
LOCATION:Nagoya University ES Hall\, ES Building 1st floor
URL:https://agenda.hepl.phys.nagoya-u.ac.jp/indico/conferenceDisplay.py?con
 fId=2
END:VEVENT
END:VCALENDAR
