BEGIN:VCALENDAR
VERSION:2.0
PRODID:-//CERN//INDICO//EN
BEGIN:VEVENT
SUMMARY:Pushing the Frontiers at ATLAS
DTSTART;VALUE=DATE-TIME:20221026T080000Z
DTEND;VALUE=DATE-TIME:20221026T100000Z
DTSTAMP;VALUE=DATE-TIME:20260425T132353Z
UID:indico-event-2131@cern.ch
DESCRIPTION:Abstract: The future of the ATLAS experiment extends 20 years\,
  to the end of the High-Luminosity run of the Large Hadron collider. 
 During that time\, the experiment will be confronted with some of the most
  difficult computing challenges of any modern scientific experiment\, from
  an enormous dataset volume\, to the extreme computing and networking 
 requirements. The experiment must not only rise to meet those challenges\,
  but leave absolutely no stone unturned. A robust new physics search 
 program is absolutely mandatory to fully explore and exploit the data. 
 This seminar will present the computing challenges at ATLAS\, a variety of
  approaches to overcome them\, and some of the cutting-edge searches for 
 new physics that set examples for how the data might be explored in the fu
 ture.\n\nhttps://agenda.hepl.phys.nagoya-u.ac.jp/indico/conferenceDisplay.
 py?confId=2131
LOCATION:
URL:https://agenda.hepl.phys.nagoya-u.ac.jp/indico/conferenceDisplay.py?con
 fId=2131
END:VEVENT
END:VCALENDAR
