BEGIN:VCALENDAR
VERSION:2.0
PRODID:-//CERN//INDICO//EN
BEGIN:VEVENT
SUMMARY:タウンミーティング 『コライダー加速器による高
 エネルギー物理学の将来展望』
DTSTART;VALUE=DATE-TIME:20110910T010000Z
DTEND;VALUE=DATE-TIME:20110910T090000Z
DTSTAMP;VALUE=DATE-TIME:20260424T035506Z
UID:indico-event-253@cern.ch
DESCRIPTION:\n\nhttps://agenda.hepl.phys.nagoya-u.ac.jp/indico/conferenceDi
 splay.py?confId=253
LOCATION:名古屋大学 理学南館 坂田・平田ホール
URL:https://agenda.hepl.phys.nagoya-u.ac.jp/indico/conferenceDisplay.py?con
 fId=253
END:VEVENT
END:VCALENDAR
