BEGIN:VCALENDAR
VERSION:2.0
PRODID:-//CERN//INDICO//EN
BEGIN:VEVENT
SUMMARY:Spinを考慮したタウの崩壊
DTSTART;VALUE=DATE-TIME:20070912T230000Z
DTEND;VALUE=DATE-TIME:20150813T000000Z
DTSTAMP;VALUE=DATE-TIME:20260425T132353Z
UID:indico-event-257@cern.ch
DESCRIPTION:https://agenda.hepl.phys.nagoya-u.ac.jp/indico/conferenceDispla
 y.py?confId=257
LOCATION:
URL:https://agenda.hepl.phys.nagoya-u.ac.jp/indico/conferenceDisplay.py?con
 fId=257
END:VEVENT
END:VCALENDAR
