BEGIN:VCALENDAR
VERSION:2.0
PRODID:-//CERN//INDICO//EN
BEGIN:VEVENT
SUMMARY:CP violation in B meson decays and matter-antimatter asymmetry 
 (1/3) 
DTSTART;VALUE=DATE-TIME:20071004T070000Z
DTEND;VALUE=DATE-TIME:20071004T090000Z
DTSTAMP;VALUE=DATE-TIME:20260425T132353Z
UID:indico-event-258@cern.ch
DESCRIPTION:In the series of lectures I discuss the one of the most 
 mysterious \nphenomena in the particle physics\, the CP violation. In 
 recent years\, the \nstudies of B meson properties are playing an 
 outstanding role in the\ninvestigation of this phenomenon. Thanks to the 
 successful experiments at \nthe B factories\, not only the CP violation in
  B meson decays is observed\, \nbut it is currently studied in detail. The
  review of the state of the \nart in this field\, as well as prospects for
  the future is presented.\n\nhttps://agenda.hepl.phys.nagoya-u.ac.jp/indic
 o/conferenceDisplay.py?confId=258
LOCATION:
URL:https://agenda.hepl.phys.nagoya-u.ac.jp/indico/conferenceDisplay.py?con
 fId=258
END:VEVENT
END:VCALENDAR
