BEGIN:VCALENDAR
VERSION:2.0
PRODID:-//CERN//INDICO//EN
BEGIN:VEVENT
SUMMARY:Physics of tau lepton decays into hadrons
DTSTART;VALUE=DATE-TIME:20070518T043000Z
DTEND;VALUE=DATE-TIME:20070518T053000Z
DTSTAMP;VALUE=DATE-TIME:20260425T132313Z
UID:indico-event-260@cern.ch
DESCRIPTION:The current status of experiment and theory of tau lepton 
 hadronic decays is considered. \nWe begin with decays into the even number
  of pions. Spectra and branching fractions of such \ntau lepton decays are
  compared to the data on the corressponding e+e- cross sections 
 using\nconserved vector current. Implications of this comparison for the 
 muon anomalous magnetic\nmoment are discussed. A brief review of the 
 decays into the odd number of pions is also presented.\n\nhttps://agenda.h
 epl.phys.nagoya-u.ac.jp/indico/conferenceDisplay.py?confId=260
LOCATION:
URL:https://agenda.hepl.phys.nagoya-u.ac.jp/indico/conferenceDisplay.py?con
 fId=260
END:VEVENT
END:VCALENDAR
