BEGIN:VCALENDAR
VERSION:2.0
PRODID:-//CERN//INDICO//EN
BEGIN:VEVENT
SUMMARY:The luminosity measurement at Belle detector
DTSTART;VALUE=DATE-TIME:20070411T060000Z
DTEND;VALUE=DATE-TIME:20070411T070000Z
DTSTAMP;VALUE=DATE-TIME:20260425T132353Z
UID:indico-event-261@cern.ch
DESCRIPTION:https://agenda.hepl.phys.nagoya-u.ac.jp/indico/conferenceDispla
 y.py?confId=261
LOCATION:
URL:https://agenda.hepl.phys.nagoya-u.ac.jp/indico/conferenceDisplay.py?con
 fId=261
END:VEVENT
END:VCALENDAR
