BEGIN:VCALENDAR
VERSION:2.0
PRODID:-//CERN//INDICO//EN
BEGIN:VEVENT
SUMMARY:BNM2006 II
DTSTART;VALUE=DATE-TIME:20061217T233000Z
DTEND;VALUE=DATE-TIME:20061219T074000Z
DTSTAMP;VALUE=DATE-TIME:20260425T203320Z
UID:indico-event-263@cern.ch
DESCRIPTION:B Factories and New Measurements: 2006 II\n\nhttps://agenda.hep
 l.phys.nagoya-u.ac.jp/indico/conferenceDisplay.py?confId=263
LOCATION:Nara Women's University
URL:https://agenda.hepl.phys.nagoya-u.ac.jp/indico/conferenceDisplay.py?con
 fId=263
END:VEVENT
END:VCALENDAR
