BEGIN:VCALENDAR
VERSION:2.0
PRODID:-//CERN//INDICO//EN
BEGIN:VEVENT
SUMMARY:「新ハドロン」新学術領域　第1回評価委員会
DTSTART;VALUE=DATE-TIME:20110804T010000Z
DTEND;VALUE=DATE-TIME:20110804T080000Z
DTSTAMP;VALUE=DATE-TIME:20260424T200206Z
UID:indico-event-274@cern.ch
DESCRIPTION:https://agenda.hepl.phys.nagoya-u.ac.jp/indico/conferenceDispla
 y.py?confId=274
LOCATION:
URL:https://agenda.hepl.phys.nagoya-u.ac.jp/indico/conferenceDisplay.py?con
 fId=274
END:VEVENT
END:VCALENDAR
