BEGIN:VCALENDAR
VERSION:2.0
PRODID:-//CERN//INDICO//EN
BEGIN:VEVENT
SUMMARY:LFV status
DTSTART;VALUE=DATE-TIME:20110310T050000Z
DTEND;VALUE=DATE-TIME:20110310T053000Z
DTSTAMP;VALUE=DATE-TIME:20260424T214112Z
UID:indico-contribution-277-1@cern.ch
DESCRIPTION:Speakers: MIYAZAKI\, Yoshiyuki ()\nhttps://agenda.hepl.phys.nag
 oya-u.ac.jp/indico/contributionDisplay.py?contribId=1&sessionId=1&confId=2
 77
LOCATION:
URL:https://agenda.hepl.phys.nagoya-u.ac.jp/indico/contributionDisplay.py?c
 ontribId=1&sessionId=1&confId=277
END:VEVENT
BEGIN:VEVENT
SUMMARY:タウ物理(まとめ)
DTSTART;VALUE=DATE-TIME:20110310T041500Z
DTEND;VALUE=DATE-TIME:20110310T050000Z
DTSTAMP;VALUE=DATE-TIME:20260424T214112Z
UID:indico-contribution-277-0@cern.ch
DESCRIPTION:Speakers: HAYASAKA\, Kiyoshi ()\nhttps://agenda.hepl.phys.nagoy
 a-u.ac.jp/indico/contributionDisplay.py?contribId=0&sessionId=1&confId=277
LOCATION:
URL:https://agenda.hepl.phys.nagoya-u.ac.jp/indico/contributionDisplay.py?c
 ontribId=0&sessionId=1&confId=277
END:VEVENT
BEGIN:VEVENT
SUMMARY:TBD
DTSTART;VALUE=DATE-TIME:20110310T060000Z
DTEND;VALUE=DATE-TIME:20110310T063000Z
DTSTAMP;VALUE=DATE-TIME:20260424T214112Z
UID:indico-contribution-277-3@cern.ch
DESCRIPTION:Speakers: HISANO\, Junji ()\nhttps://agenda.hepl.phys.nagoya-u.
 ac.jp/indico/contributionDisplay.py?contribId=3&sessionId=2&confId=277
LOCATION:
URL:https://agenda.hepl.phys.nagoya-u.ac.jp/indico/contributionDisplay.py?c
 ontribId=3&sessionId=2&confId=277
END:VEVENT
BEGIN:VEVENT
SUMMARY:CP violation and Form factor
DTSTART;VALUE=DATE-TIME:20110310T053000Z
DTEND;VALUE=DATE-TIME:20110310T060000Z
DTSTAMP;VALUE=DATE-TIME:20260424T214112Z
UID:indico-contribution-277-2@cern.ch
DESCRIPTION:Speakers: HAYASHI\, Hisaki ()\nhttps://agenda.hepl.phys.nagoya-
 u.ac.jp/indico/contributionDisplay.py?contribId=2&sessionId=1&confId=277
LOCATION:
URL:https://agenda.hepl.phys.nagoya-u.ac.jp/indico/contributionDisplay.py?c
 ontribId=2&sessionId=1&confId=277
END:VEVENT
BEGIN:VEVENT
SUMMARY:トップクォーク対生成断面積測定
DTSTART;VALUE=DATE-TIME:20110310T074500Z
DTEND;VALUE=DATE-TIME:20110310T081500Z
DTSTAMP;VALUE=DATE-TIME:20260424T214112Z
UID:indico-contribution-277-5@cern.ch
DESCRIPTION:Speakers: OKUMURA\, Yasuyuki ()\nhttps://agenda.hepl.phys.nagoy
 a-u.ac.jp/indico/contributionDisplay.py?contribId=5&sessionId=3&confId=277
LOCATION:
URL:https://agenda.hepl.phys.nagoya-u.ac.jp/indico/contributionDisplay.py?c
 ontribId=5&sessionId=3&confId=277
END:VEVENT
BEGIN:VEVENT
SUMMARY:ATLAS(まとめ)
DTSTART;VALUE=DATE-TIME:20110310T070000Z
DTEND;VALUE=DATE-TIME:20110310T074500Z
DTSTAMP;VALUE=DATE-TIME:20260424T214112Z
UID:indico-contribution-277-4@cern.ch
DESCRIPTION:Speakers: TOMOTO\, Makoto ()\nhttps://agenda.hepl.phys.nagoya-u
 .ac.jp/indico/contributionDisplay.py?contribId=4&sessionId=3&confId=277
LOCATION:
URL:https://agenda.hepl.phys.nagoya-u.ac.jp/indico/contributionDisplay.py?c
 ontribId=4&sessionId=3&confId=277
END:VEVENT
BEGIN:VEVENT
SUMMARY:トップクォーク崩壊のWボソン偏極度測定
DTSTART;VALUE=DATE-TIME:20110310T081500Z
DTEND;VALUE=DATE-TIME:20110310T084500Z
DTSTAMP;VALUE=DATE-TIME:20260424T214112Z
UID:indico-contribution-277-6@cern.ch
DESCRIPTION:Speakers: HASEGAWA\, Satoshi ()\nhttps://agenda.hepl.phys.nagoy
 a-u.ac.jp/indico/contributionDisplay.py?contribId=6&sessionId=3&confId=277
LOCATION:
URL:https://agenda.hepl.phys.nagoya-u.ac.jp/indico/contributionDisplay.py?c
 ontribId=6&sessionId=3&confId=277
END:VEVENT
BEGIN:VEVENT
SUMMARY:TOP beam test
DTSTART;VALUE=DATE-TIME:20110311T014500Z
DTEND;VALUE=DATE-TIME:20110311T021500Z
DTSTAMP;VALUE=DATE-TIME:20260424T214112Z
UID:indico-contribution-277-9@cern.ch
DESCRIPTION:Speakers: ARITA\, Yoshinori ()\nhttps://agenda.hepl.phys.nagoya
 -u.ac.jp/indico/contributionDisplay.py?contribId=9&sessionId=4&confId=277
LOCATION:
URL:https://agenda.hepl.phys.nagoya-u.ac.jp/indico/contributionDisplay.py?c
 ontribId=9&sessionId=4&confId=277
END:VEVENT
BEGIN:VEVENT
SUMMARY:TOPカウンター開発(まとめ)
DTSTART;VALUE=DATE-TIME:20110311T010000Z
DTEND;VALUE=DATE-TIME:20110311T014500Z
DTSTAMP;VALUE=DATE-TIME:20260424T214112Z
UID:indico-contribution-277-8@cern.ch
DESCRIPTION:Speakers: INAMI\, Kenji ()\nhttps://agenda.hepl.phys.nagoya-u.a
 c.jp/indico/contributionDisplay.py?contribId=8&sessionId=4&confId=277
LOCATION:
URL:https://agenda.hepl.phys.nagoya-u.ac.jp/indico/contributionDisplay.py?c
 ontribId=8&sessionId=4&confId=277
END:VEVENT
END:VCALENDAR
