BEGIN:VCALENDAR
VERSION:2.0
PRODID:-//CERN//INDICO//EN
BEGIN:VEVENT
SUMMARY:第5回 
 学術創成研究「τレプトン物理の新展開」評価委員会
DTSTART;VALUE=DATE-TIME:20110310T040000Z
DTEND;VALUE=DATE-TIME:20110311T050000Z
DTSTAMP;VALUE=DATE-TIME:20260424T214112Z
UID:indico-event-277@cern.ch
DESCRIPTION:https://agenda.hepl.phys.nagoya-u.ac.jp/indico/conferenceDispla
 y.py?confId=277
LOCATION:
URL:https://agenda.hepl.phys.nagoya-u.ac.jp/indico/conferenceDisplay.py?con
 fId=277
END:VEVENT
END:VCALENDAR
