BEGIN:VCALENDAR
VERSION:2.0
PRODID:-//CERN//INDICO//EN
BEGIN:VEVENT
SUMMARY:I=1 pion-pion interaction from lattice QCD
DTSTART;VALUE=DATE-TIME:20120713T022000Z
DTEND;VALUE=DATE-TIME:20120713T024000Z
DTSTAMP;VALUE=DATE-TIME:20260425T132353Z
UID:indico-contribution-448-24@cern.ch
DESCRIPTION:Speakers: CHARRON\, Bruno ()\nhttps://agenda.hepl.phys.nagoya-u
 .ac.jp/indico/contributionDisplay.py?contribId=24&sessionId=9&confId=448
LOCATION:名古屋大学 ESホール（ES総合館1F)
URL:https://agenda.hepl.phys.nagoya-u.ac.jp/indico/contributionDisplay.py?c
 ontribId=24&sessionId=9&confId=448
END:VEVENT
BEGIN:VEVENT
SUMMARY:Study on Exotic Hadrons at Belle
DTSTART;VALUE=DATE-TIME:20120713T043000Z
DTEND;VALUE=DATE-TIME:20120713T050000Z
DTSTAMP;VALUE=DATE-TIME:20260425T132353Z
UID:indico-contribution-448-25@cern.ch
DESCRIPTION:Speakers: IIJIMA\, Toru ()\nhttps://agenda.hepl.phys.nagoya-u.a
 c.jp/indico/contributionDisplay.py?contribId=25&sessionId=10&confId=448
LOCATION:名古屋大学 ESホール（ES総合館1F)
URL:https://agenda.hepl.phys.nagoya-u.ac.jp/indico/contributionDisplay.py?c
 ontribId=25&sessionId=10&confId=448
END:VEVENT
BEGIN:VEVENT
SUMMARY:Exotic mesons with charm and bottom
DTSTART;VALUE=DATE-TIME:20120713T050000Z
DTEND;VALUE=DATE-TIME:20120713T052000Z
DTSTAMP;VALUE=DATE-TIME:20260425T132353Z
UID:indico-contribution-448-26@cern.ch
DESCRIPTION:Speakers: YASUI\, Shigehiro ()\nhttps://agenda.hepl.phys.nagoya
 -u.ac.jp/indico/contributionDisplay.py?contribId=26&sessionId=10&confId=44
 8
LOCATION:名古屋大学 ESホール（ES総合館1F)
URL:https://agenda.hepl.phys.nagoya-u.ac.jp/indico/contributionDisplay.py?c
 ontribId=26&sessionId=10&confId=448
END:VEVENT
BEGIN:VEVENT
SUMMARY:Dynamically generated resonances from two vectors in the charm 
 sector
DTSTART;VALUE=DATE-TIME:20120713T052000Z
DTEND;VALUE=DATE-TIME:20120713T054000Z
DTSTAMP;VALUE=DATE-TIME:20260425T132353Z
UID:indico-contribution-448-27@cern.ch
DESCRIPTION:Speakers: MOLINA\, Requel ()\nhttps://agenda.hepl.phys.nagoya-u
 .ac.jp/indico/contributionDisplay.py?contribId=27&sessionId=10&confId=448
LOCATION:名古屋大学 ESホール（ES総合館1F)
URL:https://agenda.hepl.phys.nagoya-u.ac.jp/indico/contributionDisplay.py?c
 ontribId=27&sessionId=10&confId=448
END:VEVENT
BEGIN:VEVENT
SUMMARY:NRQCD and pNRQCD for heavy quarkonium
DTSTART;VALUE=DATE-TIME:20120713T003000Z
DTEND;VALUE=DATE-TIME:20120713T005000Z
DTSTAMP;VALUE=DATE-TIME:20260425T132353Z
UID:indico-contribution-448-20@cern.ch
DESCRIPTION:Speakers: KOMA\, Yoshiaki ()\nhttps://agenda.hepl.phys.nagoya-u
 .ac.jp/indico/contributionDisplay.py?contribId=20&sessionId=8&confId=448
LOCATION:名古屋大学 ESホール（ES総合館1F)
URL:https://agenda.hepl.phys.nagoya-u.ac.jp/indico/contributionDisplay.py?c
 ontribId=20&sessionId=8&confId=448
END:VEVENT
BEGIN:VEVENT
SUMMARY:Inter-quark potential from NBS wavefunction from lattice QCD
DTSTART;VALUE=DATE-TIME:20120713T005000Z
DTEND;VALUE=DATE-TIME:20120713T011000Z
DTSTAMP;VALUE=DATE-TIME:20260425T132353Z
UID:indico-contribution-448-21@cern.ch
DESCRIPTION:Speakers: IIDA\, Hideaki ()\nhttps://agenda.hepl.phys.nagoya-u.
 ac.jp/indico/contributionDisplay.py?contribId=21&sessionId=8&confId=448
LOCATION:名古屋大学 ESホール（ES総合館1F)
URL:https://agenda.hepl.phys.nagoya-u.ac.jp/indico/contributionDisplay.py?c
 ontribId=21&sessionId=8&confId=448
END:VEVENT
BEGIN:VEVENT
SUMMARY:Hadron excitations as resonant particles in hadron reactions
DTSTART;VALUE=DATE-TIME:20120713T013000Z
DTEND;VALUE=DATE-TIME:20120713T015500Z
DTSTAMP;VALUE=DATE-TIME:20260425T132353Z
UID:indico-contribution-448-22@cern.ch
DESCRIPTION:Speakers: KAMANO\, Hiroyuki ()\nhttps://agenda.hepl.phys.nagoya
 -u.ac.jp/indico/contributionDisplay.py?contribId=22&sessionId=9&confId=448
LOCATION:名古屋大学 ESホール（ES総合館1F)
URL:https://agenda.hepl.phys.nagoya-u.ac.jp/indico/contributionDisplay.py?c
 ontribId=22&sessionId=9&confId=448
END:VEVENT
BEGIN:VEVENT
SUMMARY:Resonance on the lattice
DTSTART;VALUE=DATE-TIME:20120713T015500Z
DTEND;VALUE=DATE-TIME:20120713T022000Z
DTSTAMP;VALUE=DATE-TIME:20260425T132353Z
UID:indico-contribution-448-23@cern.ch
DESCRIPTION:Speakers: ISHIZUKA\, Naruhito ()\nhttps://agenda.hepl.phys.nago
 ya-u.ac.jp/indico/contributionDisplay.py?contribId=23&sessionId=9&confId=4
 48
LOCATION:名古屋大学 ESホール（ES総合館1F)
URL:https://agenda.hepl.phys.nagoya-u.ac.jp/indico/contributionDisplay.py?c
 ontribId=23&sessionId=9&confId=448
END:VEVENT
BEGIN:VEVENT
SUMMARY:A composite model for exotic hadrons
DTSTART;VALUE=DATE-TIME:20120713T054000Z
DTEND;VALUE=DATE-TIME:20120713T060000Z
DTSTAMP;VALUE=DATE-TIME:20260425T132353Z
UID:indico-contribution-448-28@cern.ch
DESCRIPTION:Speakers: MA\, Yong-Liang ()\nhttps://agenda.hepl.phys.nagoya-u
 .ac.jp/indico/contributionDisplay.py?contribId=28&sessionId=10&confId=448
LOCATION:名古屋大学 ESホール（ES総合館1F)
URL:https://agenda.hepl.phys.nagoya-u.ac.jp/indico/contributionDisplay.py?c
 ontribId=28&sessionId=10&confId=448
END:VEVENT
BEGIN:VEVENT
SUMMARY:Composite and elementary natures of mesonic resonances
DTSTART;VALUE=DATE-TIME:20120713T062000Z
DTEND;VALUE=DATE-TIME:20120713T064000Z
DTSTAMP;VALUE=DATE-TIME:20260425T132353Z
UID:indico-contribution-448-29@cern.ch
DESCRIPTION:Speakers: NAGAHIRO\, Hideko ()\nhttps://agenda.hepl.phys.nagoya
 -u.ac.jp/indico/contributionDisplay.py?contribId=29&sessionId=11&confId=44
 8
LOCATION:名古屋大学 ESホール（ES総合館1F)
URL:https://agenda.hepl.phys.nagoya-u.ac.jp/indico/contributionDisplay.py?c
 ontribId=29&sessionId=11&confId=448
END:VEVENT
BEGIN:VEVENT
SUMMARY:Crossover workshop & New hadrons
DTSTART;VALUE=DATE-TIME:20120712T000000Z
DTEND;VALUE=DATE-TIME:20120712T002000Z
DTSTAMP;VALUE=DATE-TIME:20260425T132353Z
UID:indico-contribution-448-1@cern.ch
DESCRIPTION:Speakers: HOSAKA\, Atsushi ()\nhttps://agenda.hepl.phys.nagoya-
 u.ac.jp/indico/contributionDisplay.py?contribId=1&sessionId=2&confId=448
LOCATION:名古屋大学 ESホール（ES総合館1F)
URL:https://agenda.hepl.phys.nagoya-u.ac.jp/indico/contributionDisplay.py?c
 ontribId=1&sessionId=2&confId=448
END:VEVENT
BEGIN:VEVENT
SUMMARY:Calculation of light nuclei from N_f=2+1 lattice QCD
DTSTART;VALUE=DATE-TIME:20120712T004000Z
DTEND;VALUE=DATE-TIME:20120712T010000Z
DTSTAMP;VALUE=DATE-TIME:20260425T132353Z
UID:indico-contribution-448-3@cern.ch
DESCRIPTION:Speakers: YAMAZAKI\, Takeshi ()\nhttps://agenda.hepl.phys.nagoy
 a-u.ac.jp/indico/contributionDisplay.py?contribId=3&sessionId=2&confId=448
LOCATION:名古屋大学 ESホール（ES総合館1F)
URL:https://agenda.hepl.phys.nagoya-u.ac.jp/indico/contributionDisplay.py?c
 ontribId=3&sessionId=2&confId=448
END:VEVENT
BEGIN:VEVENT
SUMMARY:Introduction to Crossover Workshop
DTSTART;VALUE=DATE-TIME:20120712T002000Z
DTEND;VALUE=DATE-TIME:20120712T004000Z
DTSTAMP;VALUE=DATE-TIME:20260425T132353Z
UID:indico-contribution-448-2@cern.ch
DESCRIPTION:Speakers: AOKI\, Shinya ()\nhttps://agenda.hepl.phys.nagoya-u.a
 c.jp/indico/contributionDisplay.py?contribId=2&sessionId=2&confId=448
LOCATION:名古屋大学 ESホール（ES総合館1F)
URL:https://agenda.hepl.phys.nagoya-u.ac.jp/indico/contributionDisplay.py?c
 ontribId=2&sessionId=2&confId=448
END:VEVENT
BEGIN:VEVENT
SUMMARY:Baryon-baryon interactions in the SU(6) quark model
DTSTART;VALUE=DATE-TIME:20120712T014000Z
DTEND;VALUE=DATE-TIME:20120712T020000Z
DTSTAMP;VALUE=DATE-TIME:20260425T132353Z
UID:indico-contribution-448-5@cern.ch
DESCRIPTION:Speakers: NAKAMOTO\, Choki ()\nhttps://agenda.hepl.phys.nagoya-
 u.ac.jp/indico/contributionDisplay.py?contribId=5&sessionId=4&confId=448
LOCATION:名古屋大学 ESホール（ES総合館1F)
URL:https://agenda.hepl.phys.nagoya-u.ac.jp/indico/contributionDisplay.py?c
 ontribId=5&sessionId=4&confId=448
END:VEVENT
BEGIN:VEVENT
SUMMARY:Three-Nucleon Forces explored on the lattice
DTSTART;VALUE=DATE-TIME:20120712T010000Z
DTEND;VALUE=DATE-TIME:20120712T012000Z
DTSTAMP;VALUE=DATE-TIME:20260425T132353Z
UID:indico-contribution-448-4@cern.ch
DESCRIPTION:Speakers: DOI\, Takumi ()\nhttps://agenda.hepl.phys.nagoya-u.ac
 .jp/indico/contributionDisplay.py?contribId=4&sessionId=2&confId=448
LOCATION:名古屋大学 ESホール（ES総合館1F)
URL:https://agenda.hepl.phys.nagoya-u.ac.jp/indico/contributionDisplay.py?c
 ontribId=4&sessionId=2&confId=448
END:VEVENT
BEGIN:VEVENT
SUMMARY:Spin-Orbit force in the NN system from Lattice QCD
DTSTART;VALUE=DATE-TIME:20120712T022000Z
DTEND;VALUE=DATE-TIME:20120712T024000Z
DTSTAMP;VALUE=DATE-TIME:20260425T132353Z
UID:indico-contribution-448-7@cern.ch
DESCRIPTION:Speakers: MURANO\, Keiko ()\nhttps://agenda.hepl.phys.nagoya-u.
 ac.jp/indico/contributionDisplay.py?contribId=7&sessionId=4&confId=448
LOCATION:名古屋大学 ESホール（ES総合館1F)
URL:https://agenda.hepl.phys.nagoya-u.ac.jp/indico/contributionDisplay.py?c
 ontribId=7&sessionId=4&confId=448
END:VEVENT
BEGIN:VEVENT
SUMMARY:Experimental Approach to Three Nucleon Forces via Few Nucleon 
 Scattering
DTSTART;VALUE=DATE-TIME:20120712T020000Z
DTEND;VALUE=DATE-TIME:20120712T022000Z
DTSTAMP;VALUE=DATE-TIME:20260425T132353Z
UID:indico-contribution-448-6@cern.ch
DESCRIPTION:Speakers: SEKIGUCHI\, Kimiko ()\nhttps://agenda.hepl.phys.nagoy
 a-u.ac.jp/indico/contributionDisplay.py?contribId=6&sessionId=4&confId=448
LOCATION:名古屋大学 ESホール（ES総合館1F)
URL:https://agenda.hepl.phys.nagoya-u.ac.jp/indico/contributionDisplay.py?c
 ontribId=6&sessionId=4&confId=448
END:VEVENT
BEGIN:VEVENT
SUMMARY:Baryon-baryon interaction and Structure of few-body systems
DTSTART;VALUE=DATE-TIME:20120712T043000Z
DTEND;VALUE=DATE-TIME:20120712T050000Z
DTSTAMP;VALUE=DATE-TIME:20260425T132353Z
UID:indico-contribution-448-9@cern.ch
DESCRIPTION:Speakers: HIYAMA\, Emiko ()\nhttps://agenda.hepl.phys.nagoya-u.
 ac.jp/indico/contributionDisplay.py?contribId=9&sessionId=5&confId=448
LOCATION:名古屋大学 ESホール（ES総合館1F)
URL:https://agenda.hepl.phys.nagoya-u.ac.jp/indico/contributionDisplay.py?c
 ontribId=9&sessionId=5&confId=448
END:VEVENT
BEGIN:VEVENT
SUMMARY:Equation of state for hadron-quark transition region and 
 characteristics of hybrid stars
DTSTART;VALUE=DATE-TIME:20120712T024000Z
DTEND;VALUE=DATE-TIME:20120712T030000Z
DTSTAMP;VALUE=DATE-TIME:20260425T132353Z
UID:indico-contribution-448-8@cern.ch
DESCRIPTION:Speakers: TAKATSUKA\, Tatsuyuki ()\nhttps://agenda.hepl.phys.na
 goya-u.ac.jp/indico/contributionDisplay.py?contribId=8&sessionId=4&confId=
 448
LOCATION:名古屋大学 ESホール（ES総合館1F)
URL:https://agenda.hepl.phys.nagoya-u.ac.jp/indico/contributionDisplay.py?c
 ontribId=8&sessionId=4&confId=448
END:VEVENT
BEGIN:VEVENT
SUMMARY:Nucleon matter and hyperon in medium from Lattice QCD
DTSTART;VALUE=DATE-TIME:20120712T052000Z
DTEND;VALUE=DATE-TIME:20120712T054000Z
DTSTAMP;VALUE=DATE-TIME:20260425T132353Z
UID:indico-contribution-448-11@cern.ch
DESCRIPTION:Speakers: INOUE\, Takashi ()\nhttps://agenda.hepl.phys.nagoya-u
 .ac.jp/indico/contributionDisplay.py?contribId=11&sessionId=5&confId=448
LOCATION:名古屋大学 ESホール（ES総合館1F)
URL:https://agenda.hepl.phys.nagoya-u.ac.jp/indico/contributionDisplay.py?c
 ontribId=11&sessionId=5&confId=448
END:VEVENT
BEGIN:VEVENT
SUMMARY:Coupled Channel Approach to Baryon-Baryon Interactions in Lattice 
 QCD
DTSTART;VALUE=DATE-TIME:20120712T050000Z
DTEND;VALUE=DATE-TIME:20120712T052000Z
DTSTAMP;VALUE=DATE-TIME:20260425T132353Z
UID:indico-contribution-448-10@cern.ch
DESCRIPTION:Speakers: SASAKI\, Kenji ()\nhttps://agenda.hepl.phys.nagoya-u.
 ac.jp/indico/contributionDisplay.py?contribId=10&sessionId=5&confId=448
LOCATION:名古屋大学 ESホール（ES総合館1F)
URL:https://agenda.hepl.phys.nagoya-u.ac.jp/indico/contributionDisplay.py?c
 ontribId=10&sessionId=5&confId=448
END:VEVENT
BEGIN:VEVENT
SUMMARY:Search for the H-Dibaryon with a Large Hyperon Spectrometer
DTSTART;VALUE=DATE-TIME:20120712T062000Z
DTEND;VALUE=DATE-TIME:20120712T064000Z
DTSTAMP;VALUE=DATE-TIME:20260425T132353Z
UID:indico-contribution-448-13@cern.ch
DESCRIPTION:Speakers: AHN\, Jung Keun ()\nhttps://agenda.hepl.phys.nagoya-u
 .ac.jp/indico/contributionDisplay.py?contribId=13&sessionId=6&confId=448
LOCATION:名古屋大学 ESホール（ES総合館1F)
URL:https://agenda.hepl.phys.nagoya-u.ac.jp/indico/contributionDisplay.py?c
 ontribId=13&sessionId=6&confId=448
END:VEVENT
BEGIN:VEVENT
SUMMARY:原子核でのテンソル力の重要さと格子QCD計算によ
 核力
DTSTART;VALUE=DATE-TIME:20120712T054000Z
DTEND;VALUE=DATE-TIME:20120712T060000Z
DTSTAMP;VALUE=DATE-TIME:20260425T132353Z
UID:indico-contribution-448-12@cern.ch
DESCRIPTION:Speakers: TOKI\, Hiroshi ()\nhttps://agenda.hepl.phys.nagoya-u.
 ac.jp/indico/contributionDisplay.py?contribId=12&sessionId=5&confId=448
LOCATION:名古屋大学 ESホール（ES総合館1F)
URL:https://agenda.hepl.phys.nagoya-u.ac.jp/indico/contributionDisplay.py?c
 ontribId=12&sessionId=5&confId=448
END:VEVENT
BEGIN:VEVENT
SUMMARY:Charmed baryons at JPARC
DTSTART;VALUE=DATE-TIME:20120712T070000Z
DTEND;VALUE=DATE-TIME:20120712T072000Z
DTSTAMP;VALUE=DATE-TIME:20260425T132353Z
UID:indico-contribution-448-15@cern.ch
DESCRIPTION:Speakers: NOUMI\, Hiroyuki ()\nhttps://agenda.hepl.phys.nagoya-
 u.ac.jp/indico/contributionDisplay.py?contribId=15&sessionId=6&confId=448
LOCATION:名古屋大学 ESホール（ES総合館1F)
URL:https://agenda.hepl.phys.nagoya-u.ac.jp/indico/contributionDisplay.py?c
 ontribId=15&sessionId=6&confId=448
END:VEVENT
BEGIN:VEVENT
SUMMARY:Experimental proposal of Sigma p scattering at J-PARC
DTSTART;VALUE=DATE-TIME:20120712T064000Z
DTEND;VALUE=DATE-TIME:20120712T070000Z
DTSTAMP;VALUE=DATE-TIME:20260425T132353Z
UID:indico-contribution-448-14@cern.ch
DESCRIPTION:Speakers: MIWA\, Koji ()\nhttps://agenda.hepl.phys.nagoya-u.ac.
 jp/indico/contributionDisplay.py?contribId=14&sessionId=6&confId=448
LOCATION:名古屋大学 ESホール（ES総合館1F)
URL:https://agenda.hepl.phys.nagoya-u.ac.jp/indico/contributionDisplay.py?c
 ontribId=14&sessionId=6&confId=448
END:VEVENT
BEGIN:VEVENT
SUMMARY:Exploring for Technicolor from QCD
DTSTART;VALUE=DATE-TIME:20120712T080500Z
DTEND;VALUE=DATE-TIME:20120712T083000Z
DTSTAMP;VALUE=DATE-TIME:20260425T132353Z
UID:indico-contribution-448-17@cern.ch
DESCRIPTION:Speakers: AOKI\, Yasumichi ()\nhttps://agenda.hepl.phys.nagoya-
 u.ac.jp/indico/contributionDisplay.py?contribId=17&sessionId=7&confId=448
LOCATION:名古屋大学 ESホール（ES総合館1F)
URL:https://agenda.hepl.phys.nagoya-u.ac.jp/indico/contributionDisplay.py?c
 ontribId=17&sessionId=7&confId=448
END:VEVENT
BEGIN:VEVENT
SUMMARY:Study of sigma meson structure in chiral models
DTSTART;VALUE=DATE-TIME:20120712T074000Z
DTEND;VALUE=DATE-TIME:20120712T080000Z
DTSTAMP;VALUE=DATE-TIME:20260425T132353Z
UID:indico-contribution-448-16@cern.ch
DESCRIPTION:Speakers: HARADA\, Masayasu ()\nhttps://agenda.hepl.phys.nagoya
 -u.ac.jp/indico/contributionDisplay.py?contribId=16&sessionId=7&confId=448
LOCATION:名古屋大学 ESホール（ES総合館1F)
URL:https://agenda.hepl.phys.nagoya-u.ac.jp/indico/contributionDisplay.py?c
 ontribId=16&sessionId=7&confId=448
END:VEVENT
BEGIN:VEVENT
SUMMARY:クォーク間ポテンシャルと閉じ込めの物理
DTSTART;VALUE=DATE-TIME:20120713T000000Z
DTEND;VALUE=DATE-TIME:20120713T003000Z
DTSTAMP;VALUE=DATE-TIME:20260425T132353Z
UID:indico-contribution-448-19@cern.ch
DESCRIPTION:Speakers: SUGANUMA\, Hideo ()\nhttps://agenda.hepl.phys.nagoya-
 u.ac.jp/indico/contributionDisplay.py?contribId=19&sessionId=8&confId=448
LOCATION:名古屋大学 ESホール（ES総合館1F)
URL:https://agenda.hepl.phys.nagoya-u.ac.jp/indico/contributionDisplay.py?c
 ontribId=19&sessionId=8&confId=448
END:VEVENT
BEGIN:VEVENT
SUMMARY:Holographic Approach to Exotic Hadrons
DTSTART;VALUE=DATE-TIME:20120712T083000Z
DTEND;VALUE=DATE-TIME:20120712T090000Z
DTSTAMP;VALUE=DATE-TIME:20260425T132353Z
UID:indico-contribution-448-18@cern.ch
DESCRIPTION:Speakers: GHOROKU\, Kazuo ()\nhttps://agenda.hepl.phys.nagoya-u
 .ac.jp/indico/contributionDisplay.py?contribId=18&sessionId=7&confId=448
LOCATION:名古屋大学 ESホール（ES総合館1F)
URL:https://agenda.hepl.phys.nagoya-u.ac.jp/indico/contributionDisplay.py?c
 ontribId=18&sessionId=7&confId=448
END:VEVENT
BEGIN:VEVENT
SUMMARY:J/psi-phi scattering at low energies to search for Y(4140)
DTSTART;VALUE=DATE-TIME:20120713T070000Z
DTEND;VALUE=DATE-TIME:20120713T072000Z
DTSTAMP;VALUE=DATE-TIME:20260425T132353Z
UID:indico-contribution-448-31@cern.ch
DESCRIPTION:Speakers: OZAKI\, Sho ()\nhttps://agenda.hepl.phys.nagoya-u.ac.
 jp/indico/contributionDisplay.py?contribId=31&sessionId=11&confId=448
LOCATION:名古屋大学 ESホール（ES総合館1F)
URL:https://agenda.hepl.phys.nagoya-u.ac.jp/indico/contributionDisplay.py?c
 ontribId=31&sessionId=11&confId=448
END:VEVENT
BEGIN:VEVENT
SUMMARY:Dibaryons with heavy quark(s)
DTSTART;VALUE=DATE-TIME:20120713T064000Z
DTEND;VALUE=DATE-TIME:20120713T070000Z
DTSTAMP;VALUE=DATE-TIME:20260425T132353Z
UID:indico-contribution-448-30@cern.ch
DESCRIPTION:Speakers: OKA\, Makoto ()\nhttps://agenda.hepl.phys.nagoya-u.ac
 .jp/indico/contributionDisplay.py?contribId=30&sessionId=11&confId=448
LOCATION:名古屋大学 ESホール（ES総合館1F)
URL:https://agenda.hepl.phys.nagoya-u.ac.jp/indico/contributionDisplay.py?c
 ontribId=30&sessionId=11&confId=448
END:VEVENT
BEGIN:VEVENT
SUMMARY:KN potential from lattice QCD
DTSTART;VALUE=DATE-TIME:20120713T074000Z
DTEND;VALUE=DATE-TIME:20120713T080000Z
DTSTAMP;VALUE=DATE-TIME:20260425T132353Z
UID:indico-contribution-448-33@cern.ch
DESCRIPTION:Speakers: IKEDA\, Yoichi ()\nhttps://agenda.hepl.phys.nagoya-u.
 ac.jp/indico/contributionDisplay.py?contribId=33&sessionId=11&confId=448
LOCATION:名古屋大学 ESホール（ES総合館1F)
URL:https://agenda.hepl.phys.nagoya-u.ac.jp/indico/contributionDisplay.py?c
 ontribId=33&sessionId=11&confId=448
END:VEVENT
BEGIN:VEVENT
SUMMARY:Charm quark system on the physical point in 2+1 flavor lattice QCD
DTSTART;VALUE=DATE-TIME:20120713T072000Z
DTEND;VALUE=DATE-TIME:20120713T074000Z
DTSTAMP;VALUE=DATE-TIME:20260425T132353Z
UID:indico-contribution-448-32@cern.ch
DESCRIPTION:Speakers: NAMEKAWA\, Yusuke ()\nhttps://agenda.hepl.phys.nagoya
 -u.ac.jp/indico/contributionDisplay.py?contribId=32&sessionId=11&confId=44
 8
LOCATION:名古屋大学 ESホール（ES総合館1F)
URL:https://agenda.hepl.phys.nagoya-u.ac.jp/indico/contributionDisplay.py?c
 ontribId=32&sessionId=11&confId=448
END:VEVENT
END:VCALENDAR
