BEGIN:VCALENDAR
VERSION:2.0
PRODID:-//CERN//INDICO//EN
BEGIN:VEVENT
SUMMARY:「素核宇宙融合」×「新ハドロン」クロスオーバ
 研究会
DTSTART;VALUE=DATE-TIME:20120711T230000Z
DTEND;VALUE=DATE-TIME:20120713T090000Z
DTSTAMP;VALUE=DATE-TIME:20260425T132353Z
UID:indico-event-448@cern.ch
DESCRIPTION:https://agenda.hepl.phys.nagoya-u.ac.jp/indico/conferenceDispla
 y.py?confId=448
LOCATION:名古屋大学 ESホール（ES総合館1F)
URL:https://agenda.hepl.phys.nagoya-u.ac.jp/indico/conferenceDisplay.py?con
 fId=448
END:VEVENT
END:VCALENDAR
