BEGIN:VCALENDAR
VERSION:2.0
PRODID:-//CERN//INDICO//EN
BEGIN:VEVENT
SUMMARY:梶川良一先生端宝中綬章受賞記念N研セミナー
DTSTART;VALUE=DATE-TIME:20111014T040000Z
DTEND;VALUE=DATE-TIME:20111014T130000Z
DTSTAMP;VALUE=DATE-TIME:20260423T205205Z
UID:indico-event-480@cern.ch
DESCRIPTION:10月14日にセミナーを開催致しました.\n\nhttps://a
 genda.hepl.phys.nagoya-u.ac.jp/indico/conferenceDisplay.py?confId=480
LOCATION:名古屋大学 理学南館 一階セミナー室
URL:https://agenda.hepl.phys.nagoya-u.ac.jp/indico/conferenceDisplay.py?con
 fId=480
END:VEVENT
END:VCALENDAR
