BEGIN:VCALENDAR
VERSION:2.0
PRODID:-//CERN//INDICO//EN
BEGIN:VEVENT
SUMMARY:Special talk: Latest Trend of Photon Detector from Hamamatsu
DTSTART;VALUE=DATE-TIME:20131203T012000Z
DTEND;VALUE=DATE-TIME:20131203T020000Z
DTSTAMP;VALUE=DATE-TIME:20260425T132313Z
UID:indico-contribution-600-20@cern.ch
DESCRIPTION:Speakers: Dr. YOSHIZAWA\, Yuji (Hamamatsu Photonics K.K.\, Japa
 n)\nhttps://agenda.hepl.phys.nagoya-u.ac.jp/indico/contributionDisplay.py?
 contribId=20&sessionId=2&confId=600
LOCATION:
URL:https://agenda.hepl.phys.nagoya-u.ac.jp/indico/contributionDisplay.py?c
 ontribId=20&sessionId=2&confId=600
END:VEVENT
BEGIN:VEVENT
SUMMARY:Status and progress of the novel photon detectors based on THGEM 
 and hybrid MPGD architectures
DTSTART;VALUE=DATE-TIME:20131203T020000Z
DTEND;VALUE=DATE-TIME:20131203T022500Z
DTSTAMP;VALUE=DATE-TIME:20260425T132313Z
UID:indico-contribution-600-21@cern.ch
DESCRIPTION:Speakers: Dr. LEVORATO\, Stefano (INFN sez Trieste and Trieste 
 University)\nhttps://agenda.hepl.phys.nagoya-u.ac.jp/indico/contributionDi
 splay.py?contribId=21&sessionId=2&confId=600
LOCATION:
URL:https://agenda.hepl.phys.nagoya-u.ac.jp/indico/contributionDisplay.py?c
 ontribId=21&sessionId=2&confId=600
END:VEVENT
BEGIN:VEVENT
SUMMARY:Tests on VSiPMT prototypes
DTSTART;VALUE=DATE-TIME:20131203T022500Z
DTEND;VALUE=DATE-TIME:20131203T025000Z
DTSTAMP;VALUE=DATE-TIME:20260425T132313Z
UID:indico-contribution-600-22@cern.ch
DESCRIPTION:Speakers: Dr. VIVOLO\, Daniele (INFN Napoli)\nhttps://agenda.he
 pl.phys.nagoya-u.ac.jp/indico/contributionDisplay.py?contribId=22&sessionI
 d=2&confId=600
LOCATION:
URL:https://agenda.hepl.phys.nagoya-u.ac.jp/indico/contributionDisplay.py?c
 ontribId=22&sessionId=2&confId=600
END:VEVENT
BEGIN:VEVENT
SUMMARY:Keynote talk: Momories of Kamioka Experiments
DTSTART;VALUE=DATE-TIME:20131202T040000Z
DTEND;VALUE=DATE-TIME:20131202T050000Z
DTSTAMP;VALUE=DATE-TIME:20260425T132313Z
UID:indico-contribution-600-1@cern.ch
DESCRIPTION:Speakers: Prof. KOSHIBA\, Masatoshi ()\nhttps://agenda.hepl.phy
 s.nagoya-u.ac.jp/indico/contributionDisplay.py?contribId=1&confId=600
LOCATION:
URL:https://agenda.hepl.phys.nagoya-u.ac.jp/indico/contributionDisplay.py?c
 ontribId=1&confId=600
END:VEVENT
BEGIN:VEVENT
SUMMARY:Welcome address\, practical info. from LOC
DTSTART;VALUE=DATE-TIME:20131202T000000Z
DTEND;VALUE=DATE-TIME:20131202T002000Z
DTSTAMP;VALUE=DATE-TIME:20260425T132313Z
UID:indico-contribution-600-0@cern.ch
DESCRIPTION:Speakers: \nhttps://agenda.hepl.phys.nagoya-u.ac.jp/indico/cont
 ributionDisplay.py?contribId=0&confId=600
LOCATION:
URL:https://agenda.hepl.phys.nagoya-u.ac.jp/indico/contributionDisplay.py?c
 ontribId=0&confId=600
END:VEVENT
BEGIN:VEVENT
SUMMARY:Review talk: Cherenkov light imaging in High Energy and Nuclear 
 Physics
DTSTART;VALUE=DATE-TIME:20131202T002000Z
DTEND;VALUE=DATE-TIME:20131202T010000Z
DTSTAMP;VALUE=DATE-TIME:20260425T132313Z
UID:indico-contribution-600-3@cern.ch
DESCRIPTION:Speakers: Dr. SCHWIENING\, Jochen (GSI)\nhttps://agenda.hepl.ph
 ys.nagoya-u.ac.jp/indico/contributionDisplay.py?contribId=3&sessionId=0&co
 nfId=600
LOCATION:
URL:https://agenda.hepl.phys.nagoya-u.ac.jp/indico/contributionDisplay.py?c
 ontribId=3&sessionId=0&confId=600
END:VEVENT
BEGIN:VEVENT
SUMMARY:Lecture on history and culture in Kamakura
DTSTART;VALUE=DATE-TIME:20131202T102500Z
DTEND;VALUE=DATE-TIME:20131202T105500Z
DTSTAMP;VALUE=DATE-TIME:20260425T132313Z
UID:indico-contribution-600-2@cern.ch
DESCRIPTION:Speakers: MARUNO\, Ko-ichi (Kamakura Welcome Guide Association)
 \nhttps://agenda.hepl.phys.nagoya-u.ac.jp/indico/contributionDisplay.py?co
 ntribId=2&confId=600
LOCATION:
URL:https://agenda.hepl.phys.nagoya-u.ac.jp/indico/contributionDisplay.py?c
 ontribId=2&confId=600
END:VEVENT
BEGIN:VEVENT
SUMMARY:TOP counter for particle identification at Belle II experiment
DTSTART;VALUE=DATE-TIME:20131202T015500Z
DTEND;VALUE=DATE-TIME:20131202T022000Z
DTSTAMP;VALUE=DATE-TIME:20260425T132313Z
UID:indico-contribution-600-5@cern.ch
DESCRIPTION:Speakers: Dr. INAMI\, Kenji (Nagoya university)\nhttps://agenda
 .hepl.phys.nagoya-u.ac.jp/indico/contributionDisplay.py?contribId=5&sessio
 nId=0&confId=600
LOCATION:
URL:https://agenda.hepl.phys.nagoya-u.ac.jp/indico/contributionDisplay.py?c
 ontribId=5&sessionId=0&confId=600
END:VEVENT
BEGIN:VEVENT
SUMMARY:THE RICH DETECTOR OF THE NA62 EXPERIMENT AT CERN
DTSTART;VALUE=DATE-TIME:20131202T013000Z
DTEND;VALUE=DATE-TIME:20131202T015500Z
DTSTAMP;VALUE=DATE-TIME:20260425T132313Z
UID:indico-contribution-600-4@cern.ch
DESCRIPTION:Speakers: Dr. PICCINI\, Mauro (INFN - Sezione di Perugia)\nhttp
 s://agenda.hepl.phys.nagoya-u.ac.jp/indico/contributionDisplay.py?contribI
 d=4&sessionId=0&confId=600
LOCATION:
URL:https://agenda.hepl.phys.nagoya-u.ac.jp/indico/contributionDisplay.py?c
 ontribId=4&sessionId=0&confId=600
END:VEVENT
BEGIN:VEVENT
SUMMARY:The LHCb RICH system\; detector description and operation
DTSTART;VALUE=DATE-TIME:20131202T050000Z
DTEND;VALUE=DATE-TIME:20131202T052500Z
DTSTAMP;VALUE=DATE-TIME:20260425T132313Z
UID:indico-contribution-600-7@cern.ch
DESCRIPTION:Speakers: Dr. PAPANESTIS\, Antonis (STFC - RAL)\nhttps://agenda
 .hepl.phys.nagoya-u.ac.jp/indico/contributionDisplay.py?contribId=7&sessio
 nId=0&confId=600
LOCATION:
URL:https://agenda.hepl.phys.nagoya-u.ac.jp/indico/contributionDisplay.py?c
 ontribId=7&sessionId=0&confId=600
END:VEVENT
BEGIN:VEVENT
SUMMARY:The PANDA Barrel DIRC Detector
DTSTART;VALUE=DATE-TIME:20131202T022000Z
DTEND;VALUE=DATE-TIME:20131202T024500Z
DTSTAMP;VALUE=DATE-TIME:20260425T132313Z
UID:indico-contribution-600-6@cern.ch
DESCRIPTION:Speakers: Dr. HOEK\, Matthias (Institut fuer Kernphysik\, 
 University of Mainz)\nhttps://agenda.hepl.phys.nagoya-u.ac.jp/indico/contr
 ibutionDisplay.py?contribId=6&sessionId=0&confId=600
LOCATION:
URL:https://agenda.hepl.phys.nagoya-u.ac.jp/indico/contributionDisplay.py?c
 ontribId=6&sessionId=0&confId=600
END:VEVENT
BEGIN:VEVENT
SUMMARY:The large-area hybrid-optics CLAS12 RICH detector: tests of 
 innovative components
DTSTART;VALUE=DATE-TIME:20131202T055000Z
DTEND;VALUE=DATE-TIME:20131202T061500Z
DTSTAMP;VALUE=DATE-TIME:20260425T132313Z
UID:indico-contribution-600-9@cern.ch
DESCRIPTION:Speakers: Dr. CONTALBRIGO\, Marco (INFN Ferrara)\nhttps://agend
 a.hepl.phys.nagoya-u.ac.jp/indico/contributionDisplay.py?contribId=9&sessi
 onId=0&confId=600
LOCATION:
URL:https://agenda.hepl.phys.nagoya-u.ac.jp/indico/contributionDisplay.py?c
 ontribId=9&sessionId=0&confId=600
END:VEVENT
BEGIN:VEVENT
SUMMARY:The ALICE-HMPID performance during the LHC run period 2010-2013
DTSTART;VALUE=DATE-TIME:20131202T052500Z
DTEND;VALUE=DATE-TIME:20131202T055000Z
DTSTAMP;VALUE=DATE-TIME:20260425T132313Z
UID:indico-contribution-600-8@cern.ch
DESCRIPTION:Speakers: Dr. DE CATALDO\, Giacinto (INFN Bari\, Italy)\nhttps:
 //agenda.hepl.phys.nagoya-u.ac.jp/indico/contributionDisplay.py?contribId=
 8&sessionId=0&confId=600
LOCATION:
URL:https://agenda.hepl.phys.nagoya-u.ac.jp/indico/contributionDisplay.py?c
 ontribId=8&sessionId=0&confId=600
END:VEVENT
BEGIN:VEVENT
SUMMARY:Tests of FARICH prototype with fine photon position detection
DTSTART;VALUE=DATE-TIME:20131202T071000Z
DTEND;VALUE=DATE-TIME:20131202T073500Z
DTSTAMP;VALUE=DATE-TIME:20260425T132313Z
UID:indico-contribution-600-11@cern.ch
DESCRIPTION:Speakers: Dr. KRAVCHENKO\, E.A. (Budker Institute of Nuclear 
 Physics SB RAS\, Novosibirsk\, Russia)\nhttps://agenda.hepl.phys.nagoya-u.
 ac.jp/indico/contributionDisplay.py?contribId=11&sessionId=1&confId=600
LOCATION:
URL:https://agenda.hepl.phys.nagoya-u.ac.jp/indico/contributionDisplay.py?c
 ontribId=11&sessionId=1&confId=600
END:VEVENT
BEGIN:VEVENT
SUMMARY:Aerogel RICH counter for the Belle II forward PID
DTSTART;VALUE=DATE-TIME:20131202T061500Z
DTEND;VALUE=DATE-TIME:20131202T064000Z
DTSTAMP;VALUE=DATE-TIME:20260425T132313Z
UID:indico-contribution-600-10@cern.ch
DESCRIPTION:Speakers: Dr. NISHIDA\, Shohei (KEK)\nhttps://agenda.hepl.phys.
 nagoya-u.ac.jp/indico/contributionDisplay.py?contribId=10&sessionId=0&conf
 Id=600
LOCATION:
URL:https://agenda.hepl.phys.nagoya-u.ac.jp/indico/contributionDisplay.py?c
 ontribId=10&sessionId=0&confId=600
END:VEVENT
BEGIN:VEVENT
SUMMARY:Development of an Endcap DIRC for PANDA
DTSTART;VALUE=DATE-TIME:20131202T080000Z
DTEND;VALUE=DATE-TIME:20131202T082500Z
DTSTAMP;VALUE=DATE-TIME:20260425T132313Z
UID:indico-contribution-600-13@cern.ch
DESCRIPTION:Speakers: MERLE\, Oliver (Justus-Liebig University Giessen)\nht
 tps://agenda.hepl.phys.nagoya-u.ac.jp/indico/contributionDisplay.py?contri
 bId=13&sessionId=1&confId=600
LOCATION:
URL:https://agenda.hepl.phys.nagoya-u.ac.jp/indico/contributionDisplay.py?c
 ontribId=13&sessionId=1&confId=600
END:VEVENT
BEGIN:VEVENT
SUMMARY:R&D on high momentum particle identification with a pressurized 
 Cherenkov radiator
DTSTART;VALUE=DATE-TIME:20131202T073500Z
DTEND;VALUE=DATE-TIME:20131202T080000Z
DTSTAMP;VALUE=DATE-TIME:20260425T132313Z
UID:indico-contribution-600-12@cern.ch
DESCRIPTION:Speakers: Dr. WEBER\, Michael (University of Houston)\nhttps://
 agenda.hepl.phys.nagoya-u.ac.jp/indico/contributionDisplay.py?contribId=12
 &sessionId=1&confId=600
LOCATION:
URL:https://agenda.hepl.phys.nagoya-u.ac.jp/indico/contributionDisplay.py?c
 ontribId=12&sessionId=1&confId=600
END:VEVENT
BEGIN:VEVENT
SUMMARY:Upgrade of LHCb RICH Detectors
DTSTART;VALUE=DATE-TIME:20131202T091000Z
DTEND;VALUE=DATE-TIME:20131202T093500Z
DTSTAMP;VALUE=DATE-TIME:20260425T132313Z
UID:indico-contribution-600-15@cern.ch
DESCRIPTION:Speakers: Dr. EASO\, Sajan (Rutherford Appleton Laboratory/CERN
 )\nhttps://agenda.hepl.phys.nagoya-u.ac.jp/indico/contributionDisplay.py?c
 ontribId=15&sessionId=1&confId=600
LOCATION:
URL:https://agenda.hepl.phys.nagoya-u.ac.jp/indico/contributionDisplay.py?c
 ontribId=15&sessionId=1&confId=600
END:VEVENT
BEGIN:VEVENT
SUMMARY:The CBM RICH project
DTSTART;VALUE=DATE-TIME:20131202T082500Z
DTEND;VALUE=DATE-TIME:20131202T085000Z
DTSTAMP;VALUE=DATE-TIME:20260425T132313Z
UID:indico-contribution-600-14@cern.ch
DESCRIPTION:Speakers: Dr. PAULY\, Christian (Uni Wuppertal)\nhttps://agenda
 .hepl.phys.nagoya-u.ac.jp/indico/contributionDisplay.py?contribId=14&sessi
 onId=1&confId=600
LOCATION:
URL:https://agenda.hepl.phys.nagoya-u.ac.jp/indico/contributionDisplay.py?c
 ontribId=14&sessionId=1&confId=600
END:VEVENT
BEGIN:VEVENT
SUMMARY:TORCH - a Cherenkov based Time-of-Flight detector
DTSTART;VALUE=DATE-TIME:20131202T100000Z
DTEND;VALUE=DATE-TIME:20131202T102500Z
DTSTAMP;VALUE=DATE-TIME:20260425T132313Z
UID:indico-contribution-600-17@cern.ch
DESCRIPTION:Speakers: Mr. VAN DIJK\, Maarten (University of Bristol)\nhttps
 ://agenda.hepl.phys.nagoya-u.ac.jp/indico/contributionDisplay.py?contribId
 =17&sessionId=1&confId=600
LOCATION:
URL:https://agenda.hepl.phys.nagoya-u.ac.jp/indico/contributionDisplay.py?c
 ontribId=17&sessionId=1&confId=600
END:VEVENT
BEGIN:VEVENT
SUMMARY:Results from the FDIRC prototype
DTSTART;VALUE=DATE-TIME:20131202T093500Z
DTEND;VALUE=DATE-TIME:20131202T100000Z
DTSTAMP;VALUE=DATE-TIME:20260425T132313Z
UID:indico-contribution-600-16@cern.ch
DESCRIPTION:Speakers: Prof. ROBERTS\, Doug (University of Maryland\, U.S.A.
 )\nhttps://agenda.hepl.phys.nagoya-u.ac.jp/indico/contributionDisplay.py?c
 ontribId=16&sessionId=1&confId=600
LOCATION:
URL:https://agenda.hepl.phys.nagoya-u.ac.jp/indico/contributionDisplay.py?c
 ontribId=16&sessionId=1&confId=600
END:VEVENT
BEGIN:VEVENT
SUMMARY:Review talk: Status and perspectives of solid state photon 
 detectors
DTSTART;VALUE=DATE-TIME:20131203T001000Z
DTEND;VALUE=DATE-TIME:20131203T005000Z
DTSTAMP;VALUE=DATE-TIME:20260425T132313Z
UID:indico-contribution-600-19@cern.ch
DESCRIPTION:Speakers: Dr. COLLAZUOL\, Gianmaria (Padova\, Italy)\nhttps://a
 genda.hepl.phys.nagoya-u.ac.jp/indico/contributionDisplay.py?contribId=19&
 sessionId=2&confId=600
LOCATION:
URL:https://agenda.hepl.phys.nagoya-u.ac.jp/indico/contributionDisplay.py?c
 ontribId=19&sessionId=2&confId=600
END:VEVENT
BEGIN:VEVENT
SUMMARY:Review talk: Status and perspectives of gaseous photon detectors
DTSTART;VALUE=DATE-TIME:20131202T233000Z
DTEND;VALUE=DATE-TIME:20131203T001000Z
DTSTAMP;VALUE=DATE-TIME:20260425T132313Z
UID:indico-contribution-600-18@cern.ch
DESCRIPTION:Speakers: DI MAURO\, Antonello (CERN)\nhttps://agenda.hepl.phys
 .nagoya-u.ac.jp/indico/contributionDisplay.py?contribId=18&sessionId=2&con
 fId=600
LOCATION:
URL:https://agenda.hepl.phys.nagoya-u.ac.jp/indico/contributionDisplay.py?c
 ontribId=18&sessionId=2&confId=600
END:VEVENT
END:VCALENDAR
