BEGIN:VCALENDAR
VERSION:2.0
PRODID:-//CERN//INDICO//EN
BEGIN:VEVENT
SUMMARY:8th International Workshop on Ring Imaging Cherenkov Detectors 
 (RICH 2013)
DTSTART;VALUE=DATE-TIME:20131201T230000Z
DTEND;VALUE=DATE-TIME:20131206T043000Z
DTSTAMP;VALUE=DATE-TIME:20260425T132313Z
UID:indico-event-600@cern.ch
DESCRIPTION:https://agenda.hepl.phys.nagoya-u.ac.jp/indico/conferenceDispla
 y.py?confId=600
LOCATION:
URL:https://agenda.hepl.phys.nagoya-u.ac.jp/indico/conferenceDisplay.py?con
 fId=600
END:VEVENT
END:VCALENDAR
