BEGIN:VCALENDAR
VERSION:2.0
PRODID:-//CERN//INDICO//EN
BEGIN:VEVENT
SUMMARY:Closing
DTSTART;VALUE=DATE-TIME:20201120T033500Z
DTEND;VALUE=DATE-TIME:20201120T034500Z
DTSTAMP;VALUE=DATE-TIME:20260425T152021Z
UID:indico-contribution-34@cern.ch
DESCRIPTION:Speakers: Prof. ITOW\, Yoshitaka (KMI ISEE/KMI)\nhttps://agenda
 .hepl.phys.nagoya-u.ac.jp/indico/contributionDisplay.py?contribId=34&sessi
 onId=6&confId=1282
LOCATION:Nagoya University KMI Online
URL:https://agenda.hepl.phys.nagoya-u.ac.jp/indico/contributionDisplay.py?c
 ontribId=34&sessionId=6&confId=1282
END:VEVENT
END:VCALENDAR
