BEGIN:VCALENDAR
VERSION:2.0
PRODID:-//CERN//INDICO//EN
BEGIN:VEVENT
SUMMARY:Belle II
DTSTART;VALUE=DATE-TIME:20210629T122500Z
DTEND;VALUE=DATE-TIME:20210629T125000Z
DTSTAMP;VALUE=DATE-TIME:20260423T204633Z
UID:indico-contribution-13@cern.ch
DESCRIPTION:Speakers: GONG\, Guanda (USTC)\nhttps://agenda.hepl.phys.nagoya
 -u.ac.jp/indico/contributionDisplay.py?contribId=13&sessionId=4&confId=169
 1
LOCATION:Online
URL:https://agenda.hepl.phys.nagoya-u.ac.jp/indico/contributionDisplay.py?c
 ontribId=13&sessionId=4&confId=1691
END:VEVENT
END:VCALENDAR
