BEGIN:VCALENDAR
VERSION:2.0
PRODID:-//CERN//INDICO//EN
BEGIN:VEVENT
SUMMARY:Discussion
DTSTART;VALUE=DATE-TIME:20210701T142000Z
DTEND;VALUE=DATE-TIME:20210701T151000Z
DTSTAMP;VALUE=DATE-TIME:20260420T014544Z
UID:indico-contribution-18@cern.ch
DESCRIPTION:Speakers: BIJNENS\, (Chair) Johan (Lund University)\, 
 COLANGELO\, Gilberto (University of Bern)\, KUBIS\, Bastian (HISKP (Th)\, 
 Bonn University)\, STOFFER\, Peter (HISKP (Th)\, Bonn University)\, 
 SANCHEZ PUERTAS\, Pablo (IFAE)\, DENIG\, Achim (JGU Mainz)\, SHWARTZ\, 
 Boris (BINP)\nhttps://agenda.hepl.phys.nagoya-u.ac.jp/indico/contributionD
 isplay.py?contribId=18&sessionId=2&confId=1691
LOCATION:Online
URL:https://agenda.hepl.phys.nagoya-u.ac.jp/indico/contributionDisplay.py?c
 ontribId=18&sessionId=2&confId=1691
END:VEVENT
END:VCALENDAR
