BEGIN:VCALENDAR
VERSION:2.0
PRODID:-//CERN//INDICO//EN
BEGIN:VEVENT
SUMMARY:FNAL/HPQCD/MILC
DTSTART;VALUE=DATE-TIME:20210630T122500Z
DTEND;VALUE=DATE-TIME:20210630T123500Z
DTSTAMP;VALUE=DATE-TIME:20260424T214112Z
UID:indico-contribution-21@cern.ch
DESCRIPTION:Speakers: LAHERT\, Shaun (University of Illinois Urbana-Champai
 gn)\nhttps://agenda.hepl.phys.nagoya-u.ac.jp/indico/contributionDisplay.py
 ?contribId=21&sessionId=5&confId=1691
LOCATION:Online
URL:https://agenda.hepl.phys.nagoya-u.ac.jp/indico/contributionDisplay.py?c
 ontribId=21&sessionId=5&confId=1691
END:VEVENT
END:VCALENDAR
