BEGIN:VCALENDAR
VERSION:2.0
PRODID:-//CERN//INDICO//EN
BEGIN:VEVENT
SUMMARY:Rare Kaon Decay Experiments and Future Plan
DTSTART;VALUE=DATE-TIME:20150526T030000Z
DTEND;VALUE=DATE-TIME:20150526T033000Z
DTSTAMP;VALUE=DATE-TIME:20260425T210305Z
UID:indico-contribution-27@cern.ch
DESCRIPTION:Speakers: NOMURA\, Tadashi (KOTO\, KEK)\nhttps://agenda.hepl.ph
 ys.nagoya-u.ac.jp/indico/contributionDisplay.py?contribId=27&sessionId=7&c
 onfId=170
LOCATION:Nagoya University Noyori Conference Hall
URL:https://agenda.hepl.phys.nagoya-u.ac.jp/indico/contributionDisplay.py?c
 ontribId=27&sessionId=7&confId=170
END:VEVENT
END:VCALENDAR
