BEGIN:VCALENDAR
VERSION:2.0
PRODID:-//CERN//INDICO//EN
BEGIN:VEVENT
SUMMARY:Symmetry Tests with Slow Neutrons
DTSTART;VALUE=DATE-TIME:20150527T003000Z
DTEND;VALUE=DATE-TIME:20150527T010000Z
DTSTAMP;VALUE=DATE-TIME:20260425T152021Z
UID:indico-contribution-35@cern.ch
DESCRIPTION:Speakers: SHIMIZU\, Hirohiko (Nagoya Univ.)\nhttps://agenda.hep
 l.phys.nagoya-u.ac.jp/indico/contributionDisplay.py?contribId=35&sessionId
 =10&confId=170
LOCATION:Nagoya University Noyori Conference Hall
URL:https://agenda.hepl.phys.nagoya-u.ac.jp/indico/contributionDisplay.py?c
 ontribId=35&sessionId=10&confId=170
END:VEVENT
END:VCALENDAR
