BEGIN:VCALENDAR
VERSION:2.0
PRODID:-//CERN//INDICO//EN
BEGIN:VEVENT
SUMMARY:Long-baseline accelerator neutrino experiments
DTSTART;VALUE=DATE-TIME:20150528T023000Z
DTEND;VALUE=DATE-TIME:20150528T030000Z
DTSTAMP;VALUE=DATE-TIME:20260425T225459Z
UID:indico-contribution-44@cern.ch
DESCRIPTION:Speakers: ICHIKAWA\, Atsuko. K. (Kyoto Univ.)\nhttps://agenda.h
 epl.phys.nagoya-u.ac.jp/indico/contributionDisplay.py?contribId=44&session
 Id=14&confId=170
LOCATION:Nagoya University Noyori Conference Hall
URL:https://agenda.hepl.phys.nagoya-u.ac.jp/indico/contributionDisplay.py?c
 ontribId=44&sessionId=14&confId=170
END:VEVENT
END:VCALENDAR
