BEGIN:VCALENDAR
VERSION:2.0
PRODID:-//CERN//INDICO//EN
BEGIN:VEVENT
SUMMARY:23 Study of the B_c -> J/psi D_s and B_c -> J/psi D_s* decays with 
 the ATLAS detector
DTSTART;VALUE=DATE-TIME:20150526T083000Z
DTEND;VALUE=DATE-TIME:20150526T103000Z
DTSTAMP;VALUE=DATE-TIME:20260420T031258Z
UID:indico-contribution-81@cern.ch
DESCRIPTION:Speakers: Dr. SCHEIRICH\, Daniel (Charles University in Prague)
 \nhttps://agenda.hepl.phys.nagoya-u.ac.jp/indico/contributionDisplay.py?co
 ntribId=81&sessionId=9&confId=170
LOCATION:Nagoya University Noyori Conference Hall
URL:https://agenda.hepl.phys.nagoya-u.ac.jp/indico/contributionDisplay.py?c
 ontribId=81&sessionId=9&confId=170
END:VEVENT
END:VCALENDAR
