BEGIN:VCALENDAR
VERSION:2.0
PRODID:-//CERN//INDICO//EN
BEGIN:VEVENT
SUMMARY:26 Kaon Decay into Three Photons Revisited
DTSTART;VALUE=DATE-TIME:20150526T083000Z
DTEND;VALUE=DATE-TIME:20150526T103000Z
DTSTAMP;VALUE=DATE-TIME:20260425T150732Z
UID:indico-contribution-84@cern.ch
DESCRIPTION:Speakers: Mr. HO\, Shu-yu (Caltech)\nhttps://agenda.hepl.phys.n
 agoya-u.ac.jp/indico/contributionDisplay.py?contribId=84&sessionId=9&confI
 d=170
LOCATION:Nagoya University Noyori Conference Hall
URL:https://agenda.hepl.phys.nagoya-u.ac.jp/indico/contributionDisplay.py?c
 ontribId=84&sessionId=9&confId=170
END:VEVENT
END:VCALENDAR
