BEGIN:VCALENDAR
VERSION:2.0
PRODID:-//CERN//INDICO//EN
BEGIN:VEVENT
SUMMARY:Belle II実験 ARICH検出器アップグレードに向けた光
 出器MPPCの放射線耐性の評価
DTSTART;VALUE=DATE-TIME:20210927T045000Z
DTEND;VALUE=DATE-TIME:20210927T051000Z
DTSTAMP;VALUE=DATE-TIME:20260425T152021Z
UID:indico-contribution-14@cern.ch
DESCRIPTION:Speakers: MOTOHASHI\, Kanta (Tokyo Metropolitan Univ.)\nhttps:/
 /agenda.hepl.phys.nagoya-u.ac.jp/indico/contributionDisplay.py?contribId=1
 4&sessionId=1&confId=1771
LOCATION:
URL:https://agenda.hepl.phys.nagoya-u.ac.jp/indico/contributionDisplay.py?c
 ontribId=14&sessionId=1&confId=1771
END:VEVENT
END:VCALENDAR
