BEGIN:VCALENDAR
VERSION:2.0
PRODID:-//CERN//INDICO//EN
BEGIN:VEVENT
SUMMARY:Discussion
DTSTART;VALUE=DATE-TIME:20221215T063000Z
DTEND;VALUE=DATE-TIME:20221215T064500Z
DTSTAMP;VALUE=DATE-TIME:20260419T123557Z
UID:indico-contribution-5@cern.ch
DESCRIPTION:Speakers: \nhttps://agenda.hepl.phys.nagoya-u.ac.jp/indico/cont
 ributionDisplay.py?contribId=5&confId=2104
LOCATION:Nagoya University KMI Science Symposia (ES635)
URL:https://agenda.hepl.phys.nagoya-u.ac.jp/indico/contributionDisplay.py?c
 ontribId=5&confId=2104
END:VEVENT
END:VCALENDAR
