BEGIN:VCALENDAR
VERSION:2.0
PRODID:-//CERN//INDICO//EN
BEGIN:VEVENT
SUMMARY:MCP-PMTの研究開発
DTSTART;VALUE=DATE-TIME:20091026T023000Z
DTEND;VALUE=DATE-TIME:20091026T030000Z
DTSTAMP;VALUE=DATE-TIME:20260424T214112Z
UID:indico-contribution-12@cern.ch
DESCRIPTION:Speakers: \nhttps://agenda.hepl.phys.nagoya-u.ac.jp/indico/cont
 ributionDisplay.py?contribId=12&confId=485
LOCATION: C507
URL:https://agenda.hepl.phys.nagoya-u.ac.jp/indico/contributionDisplay.py?c
 ontribId=12&confId=485
END:VEVENT
END:VCALENDAR
