BEGIN:VCALENDAR
VERSION:2.0
PRODID:-//CERN//INDICO//EN
BEGIN:VEVENT
SUMMARY:LHC Classification
DTSTART;VALUE=DATE-TIME:20200207T000000Z
DTEND;VALUE=DATE-TIME:20200207T011500Z
DTSTAMP;VALUE=DATE-TIME:20260423T171651Z
UID:indico-contribution-1-10@cern.ch
DESCRIPTION:Speakers: Prof. PLEHN\, Tilman (Heidelberg Univ.)\nhttps://agen
 da.hepl.phys.nagoya-u.ac.jp/indico/contributionDisplay.py?contribId=10&ses
 sionId=1&confId=1336
LOCATION:
URL:https://agenda.hepl.phys.nagoya-u.ac.jp/indico/contributionDisplay.py?c
 ontribId=10&sessionId=1&confId=1336
END:VEVENT
BEGIN:VEVENT
SUMMARY:Introduction of Machine Learning
DTSTART;VALUE=DATE-TIME:20200204T050000Z
DTEND;VALUE=DATE-TIME:20200204T063000Z
DTSTAMP;VALUE=DATE-TIME:20260423T171651Z
UID:indico-contribution-1-0@cern.ch
DESCRIPTION:Speakers: Prof. SHIH\, David ()\nhttps://agenda.hepl.phys.nagoy
 a-u.ac.jp/indico/contributionDisplay.py?contribId=0&sessionId=1&confId=133
 6
LOCATION:
URL:https://agenda.hepl.phys.nagoya-u.ac.jp/indico/contributionDisplay.py?c
 ontribId=0&sessionId=1&confId=1336
END:VEVENT
BEGIN:VEVENT
SUMMARY:Machine Learning in the Wild: Applications on ATLAS
DTSTART;VALUE=DATE-TIME:20200205T000000Z
DTEND;VALUE=DATE-TIME:20200205T011500Z
DTSTAMP;VALUE=DATE-TIME:20260423T171651Z
UID:indico-contribution-1-3@cern.ch
DESCRIPTION:Speakers: Dr. KAGAN\, Michael (SLAC)\nhttps://agenda.hepl.phys.
 nagoya-u.ac.jp/indico/contributionDisplay.py?contribId=3&sessionId=1&confI
 d=1336
LOCATION:
URL:https://agenda.hepl.phys.nagoya-u.ac.jp/indico/contributionDisplay.py?c
 ontribId=3&sessionId=1&confId=1336
END:VEVENT
BEGIN:VEVENT
SUMMARY:Detecting New Physics as Novelty (remote talk)
DTSTART;VALUE=DATE-TIME:20200204T070000Z
DTEND;VALUE=DATE-TIME:20200204T081500Z
DTSTAMP;VALUE=DATE-TIME:20260423T171651Z
UID:indico-contribution-1-2@cern.ch
DESCRIPTION:Speakers: Prof. LIU\, Tao (HKUST)\nhttps://agenda.hepl.phys.nag
 oya-u.ac.jp/indico/contributionDisplay.py?contribId=2&sessionId=1&confId=1
 336
LOCATION:
URL:https://agenda.hepl.phys.nagoya-u.ac.jp/indico/contributionDisplay.py?c
 ontribId=2&sessionId=1&confId=1336
END:VEVENT
BEGIN:VEVENT
SUMMARY:New Approaches to Anomaly Detection
DTSTART;VALUE=DATE-TIME:20200205T050000Z
DTEND;VALUE=DATE-TIME:20200205T061500Z
DTSTAMP;VALUE=DATE-TIME:20260423T171651Z
UID:indico-contribution-1-5@cern.ch
DESCRIPTION:Speakers: Prof. SHIH\, David (Rutgurs Univ.)\nhttps://agenda.he
 pl.phys.nagoya-u.ac.jp/indico/contributionDisplay.py?contribId=5&sessionId
 =1&confId=1336
LOCATION:
URL:https://agenda.hepl.phys.nagoya-u.ac.jp/indico/contributionDisplay.py?c
 ontribId=5&sessionId=1&confId=1336
END:VEVENT
BEGIN:VEVENT
SUMMARY:Overview of Machine Learning Activities at Belle II
DTSTART;VALUE=DATE-TIME:20200205T014500Z
DTEND;VALUE=DATE-TIME:20200205T030000Z
DTSTAMP;VALUE=DATE-TIME:20260423T171651Z
UID:indico-contribution-1-4@cern.ch
DESCRIPTION:Speakers: Dr. WEHLE\, Simon (DESY)\nhttps://agenda.hepl.phys.na
 goya-u.ac.jp/indico/contributionDisplay.py?contribId=4&sessionId=1&confId=
 1336
LOCATION:
URL:https://agenda.hepl.phys.nagoya-u.ac.jp/indico/contributionDisplay.py?c
 ontribId=4&sessionId=1&confId=1336
END:VEVENT
BEGIN:VEVENT
SUMMARY:Extracting the most from collider data with deep learning
DTSTART;VALUE=DATE-TIME:20200206T000000Z
DTEND;VALUE=DATE-TIME:20200206T011500Z
DTSTAMP;VALUE=DATE-TIME:20260423T171651Z
UID:indico-contribution-1-7@cern.ch
DESCRIPTION:Speakers: Dr. NACHMAN\, Benjamin (LBNL)\nhttps://agenda.hepl.ph
 ys.nagoya-u.ac.jp/indico/contributionDisplay.py?contribId=7&sessionId=1&co
 nfId=1336
LOCATION:
URL:https://agenda.hepl.phys.nagoya-u.ac.jp/indico/contributionDisplay.py?c
 ontribId=7&sessionId=1&confId=1336
END:VEVENT
BEGIN:VEVENT
SUMMARY:The frontier of simulation-based inference
DTSTART;VALUE=DATE-TIME:20200205T064500Z
DTEND;VALUE=DATE-TIME:20200205T080000Z
DTSTAMP;VALUE=DATE-TIME:20260423T171651Z
UID:indico-contribution-1-6@cern.ch
DESCRIPTION:Speakers: Dr. BREHMER\, Johann (New York Univ.)\nhttps://agenda
 .hepl.phys.nagoya-u.ac.jp/indico/contributionDisplay.py?contribId=6&sessio
 nId=1&confId=1336
LOCATION:
URL:https://agenda.hepl.phys.nagoya-u.ac.jp/indico/contributionDisplay.py?c
 ontribId=6&sessionId=1&confId=1336
END:VEVENT
BEGIN:VEVENT
SUMMARY:Generative machine learning methods for LHC applications
DTSTART;VALUE=DATE-TIME:20200207T014500Z
DTEND;VALUE=DATE-TIME:20200207T030000Z
DTSTAMP;VALUE=DATE-TIME:20260423T171651Z
UID:indico-contribution-1-9@cern.ch
DESCRIPTION:Speakers: Dr. BUTTER\, Anja (Heidelberg Univ.)\nhttps://agenda.
 hepl.phys.nagoya-u.ac.jp/indico/contributionDisplay.py?contribId=9&session
 Id=1&confId=1336
LOCATION:
URL:https://agenda.hepl.phys.nagoya-u.ac.jp/indico/contributionDisplay.py?c
 ontribId=9&sessionId=1&confId=1336
END:VEVENT
BEGIN:VEVENT
SUMMARY:Seeing the Milky Way halo through Gaia's eyes with ML
DTSTART;VALUE=DATE-TIME:20200206T014500Z
DTEND;VALUE=DATE-TIME:20200206T030000Z
DTSTAMP;VALUE=DATE-TIME:20260423T171651Z
UID:indico-contribution-1-8@cern.ch
DESCRIPTION:Speakers: Dr. FREYTSIS\, Marat (Rutgers Univ.)\nhttps://agenda.
 hepl.phys.nagoya-u.ac.jp/indico/contributionDisplay.py?contribId=8&session
 Id=1&confId=1336
LOCATION:
URL:https://agenda.hepl.phys.nagoya-u.ac.jp/indico/contributionDisplay.py?c
 ontribId=8&sessionId=1&confId=1336
END:VEVENT
END:VCALENDAR
